BEGIN:VCALENDAR
VERSION:2.0
PRODID:-//Read by 3rd - ECPv6.15.20//NONSGML v1.0//EN
CALSCALE:GREGORIAN
METHOD:PUBLISH
X-WR-CALNAME:Read by 3rd
X-ORIGINAL-URL:https://www.readby3rd.org
X-WR-CALDESC:Events for Read by 3rd
REFRESH-INTERVAL;VALUE=DURATION:PT1H
X-Robots-Tag:noindex
X-PUBLISHED-TTL:PT1H
BEGIN:VTIMEZONE
TZID:UTC
BEGIN:STANDARD
TZOFFSETFROM:+0000
TZOFFSETTO:+0000
TZNAME:UTC
DTSTART:20140101T000000
END:STANDARD
END:VTIMEZONE
BEGIN:VEVENT
DTSTART;TZID=UTC:20160427T131500
DTEND;TZID=UTC:20160427T143000
DTSTAMP:20260424T082721
CREATED:20151124T223208Z
LAST-MODIFIED:20151124T223208Z
UID:12323-1461762900-1461767400@www.readby3rd.org
SUMMARY:"Learning English" Class
DESCRIPTION:Volunteers are available to help parents “Learn English”.    Please come and see us in the portable in the back of Anson Jones Elementary School.
URL:https://www.readby3rd.org/event/learning-english-class-18/
LOCATION:Anson Jones Elementary School\, 1400 Pecan Street\, Bryan\, TX\, 77803\, United States
END:VEVENT
BEGIN:VEVENT
DTSTART;TZID=UTC:20160423T080000
DTEND;TZID=UTC:20160423T120000
DTSTAMP:20260424T082721
CREATED:20150806T004646Z
LAST-MODIFIED:20160417T205421Z
UID:11928-1461398400-1461412800@www.readby3rd.org
SUMMARY:Monthly Read by 3rd Meeting
DESCRIPTION:The meeting will be at Milam Elementary from 8 AM to Noon \n  \nWe will have teachers from both schools conducting “Make and Take” session for parents.  The goal is sto provide parents with ideas and materials they can use to work with their children at home. \n  \nWe will also be discussing: \n\nOur plans for Summer Camps;\nSessions with Daniel Hernandez and other community experts regarding family issues; and\nPlans for a summer picnic for the Readby3rd families.
URL:https://www.readby3rd.org/event/monthly-read-by-3rd-meeting-tentative-6/
LOCATION:Ben Milam Elementary School\, 1201 Ridgedale Street\, Bryan\, TX\, 77803\, United States
END:VEVENT
BEGIN:VEVENT
DTSTART;TZID=UTC:20160420T131500
DTEND;TZID=UTC:20160420T143000
DTSTAMP:20260424T082721
CREATED:20151124T223058Z
LAST-MODIFIED:20151124T223058Z
UID:12322-1461158100-1461162600@www.readby3rd.org
SUMMARY:"Learning English" Class
DESCRIPTION:Volunteers are available to help parents “Learn English”.    Please come and see us in the portable in the back of Anson Jones Elementary School.
URL:https://www.readby3rd.org/event/learning-english-class-17/
LOCATION:Anson Jones Elementary School\, 1400 Pecan Street\, Bryan\, TX\, 77803\, United States
END:VEVENT
BEGIN:VEVENT
DTSTART;TZID=UTC:20160413T131500
DTEND;TZID=UTC:20160413T143000
DTSTAMP:20260424T082721
CREATED:20151124T222948Z
LAST-MODIFIED:20151124T222948Z
UID:12321-1460553300-1460557800@www.readby3rd.org
SUMMARY:"Learning English" Class
DESCRIPTION:Volunteers are available to help parents “Learn English”.    Please come and see us in the portable in the back of Anson Jones Elementary School. \n 
URL:https://www.readby3rd.org/event/learning-english-class-16/
LOCATION:Anson Jones Elementary School\, 1400 Pecan Street\, Bryan\, TX\, 77803\, United States
END:VEVENT
BEGIN:VEVENT
DTSTART;TZID=UTC:20160406T131500
DTEND;TZID=UTC:20160406T143000
DTSTAMP:20260424T082721
CREATED:20151124T222846Z
LAST-MODIFIED:20151124T222846Z
UID:12320-1459948500-1459953000@www.readby3rd.org
SUMMARY:"Learning English" Class
DESCRIPTION:Volunteers are available to help parents “Learn English”.    Please come and see us in the portable in the back of Anson Jones Elementary School.
URL:https://www.readby3rd.org/event/learning-english-class-15/
LOCATION:Anson Jones Elementary School\, 1400 Pecan Street\, Bryan\, TX\, 77803\, United States
END:VEVENT
BEGIN:VEVENT
DTSTART;TZID=UTC:20160403T020000
DTEND;TZID=UTC:20160403T170000
DTSTAMP:20260424T082721
CREATED:20151231T175612Z
LAST-MODIFIED:20151231T175612Z
UID:12370-1459648800-1459702800@www.readby3rd.org
SUMMARY:OPAS - "Miss Nelson is Missing"
DESCRIPTION:Read by 3rd Families will attend the OPAS show – “Miss Nelson is Missing” \nat 2 PM.
URL:https://www.readby3rd.org/event/opas-miss-nelson-is-missing/
LOCATION:TX
END:VEVENT
BEGIN:VEVENT
DTSTART;TZID=UTC:20160330T131500
DTEND;TZID=UTC:20160330T143000
DTSTAMP:20260424T082721
CREATED:20151124T222134Z
LAST-MODIFIED:20151124T222134Z
UID:12319-1459343700-1459348200@www.readby3rd.org
SUMMARY:"Learning English" Class
DESCRIPTION:Volunteers are available to help parents “Learn English”.    Please come and see us in the portable in the back of Anson Jones Elementary School.
URL:https://www.readby3rd.org/event/learning-english-class-14/
LOCATION:Anson Jones Elementary School\, 1400 Pecan Street\, Bryan\, TX\, 77803\, United States
END:VEVENT
BEGIN:VEVENT
DTSTART;TZID=UTC:20160323T131500
DTEND;TZID=UTC:20160323T140000
DTSTAMP:20260424T082721
CREATED:20151124T221803Z
LAST-MODIFIED:20151124T221803Z
UID:12317-1458738900-1458741600@www.readby3rd.org
SUMMARY:"Learning English" Class
DESCRIPTION:Volunteers are available to help parents “Learn English”.    Please come and see us in the portable in the back of Anson Jones Elementary School.
URL:https://www.readby3rd.org/event/learning-english-class-13/
LOCATION:Anson Jones Elementary School\, 1400 Pecan Street\, Bryan\, TX\, 77803\, United States
END:VEVENT
BEGIN:VEVENT
DTSTART;TZID=UTC:20160316T131500
DTEND;TZID=UTC:20160316T143000
DTSTAMP:20260424T082721
CREATED:20151124T222019Z
LAST-MODIFIED:20151124T222019Z
UID:12318-1458134100-1458138600@www.readby3rd.org
SUMMARY:No "Learning English" Class
DESCRIPTION:Due to Spring Break\, there will not be a “Learning English” class today. \nHave a very enjoyable Spring Break.
URL:https://www.readby3rd.org/event/no-learning-english-class-4/
LOCATION:Anson Jones Elementary School\, 1400 Pecan Street\, Bryan\, TX\, 77803\, United States
END:VEVENT
BEGIN:VEVENT
DTSTART;TZID=UTC:20160309T131500
DTEND;TZID=UTC:20160309T143000
DTSTAMP:20260424T082721
CREATED:20151124T221538Z
LAST-MODIFIED:20151124T221538Z
UID:12316-1457529300-1457533800@www.readby3rd.org
SUMMARY:"Learning English" Class
DESCRIPTION:Volunteers are available to help parents “Learn English”.    Please come and see us in the portable in the back of Anson Jones Elementary School.
URL:https://www.readby3rd.org/event/learning-english-class-12/
LOCATION:Anson Jones Elementary School\, 1400 Pecan Street\, Bryan\, TX\, 77803\, United States
END:VEVENT
BEGIN:VEVENT
DTSTART;TZID=UTC:20160306T130000
DTEND;TZID=UTC:20160306T170000
DTSTAMP:20260424T082721
CREATED:20160304T205105Z
LAST-MODIFIED:20160304T205105Z
UID:12456-1457269200-1457283600@www.readby3rd.org
SUMMARY:Museum offers free admission Sunday
DESCRIPTION:The Children’s Museum of Brazos Valley is offering free admission on Sunday. \nThis event is thanks to the museum’s partnership with Texas A&M’s Phillips 66 Shield Scholars\, who are hosting an Energy Day on Sunday\, where visitors can learn about the science behind energy. \nThis museum hosts one free Sunday for the public every month to incite interest from new or first-time visitors.  The fee day will take place from 1 PM to 5 PM.   The museum is located on 4001 E 29th Street in Bryan.
URL:https://www.readby3rd.org/event/museum-offers-free-admission-sunday/
LOCATION:The Children’s Museum of the Brazos Valley\, 4001 E 29th Street\, Bryan\, United States
END:VEVENT
BEGIN:VEVENT
DTSTART;TZID=UTC:20160302T131500
DTEND;TZID=UTC:20160302T143000
DTSTAMP:20260424T082721
CREATED:20151124T221410Z
LAST-MODIFIED:20151124T221410Z
UID:12315-1456924500-1456929000@www.readby3rd.org
SUMMARY:"Learning English" Class
DESCRIPTION:Volunteers are available to help parents “Learn English”.    Please come and see us in the portable in the back of Anson Jones Elementary School.
URL:https://www.readby3rd.org/event/learning-english-class-11/
LOCATION:Anson Jones Elementary School\, 1400 Pecan Street\, Bryan\, TX\, 77803\, United States
END:VEVENT
BEGIN:VEVENT
DTSTART;TZID=UTC:20160224T131500
DTEND;TZID=UTC:20160224T143000
DTSTAMP:20260424T082721
CREATED:20151124T221258Z
LAST-MODIFIED:20151124T221258Z
UID:12314-1456319700-1456324200@www.readby3rd.org
SUMMARY:"Learning English" Class
DESCRIPTION:Volunteers are available to help parents “Learn English”.    Please come and see us in the portable in the back of Anson Jones Elementary School.
URL:https://www.readby3rd.org/event/learning-english-class-10/
LOCATION:Anson Jones Elementary School\, 1400 Pecan Street\, Bryan\, TX\, 77803\, United States
END:VEVENT
BEGIN:VEVENT
DTSTART;TZID=UTC:20160217T131500
DTEND;TZID=UTC:20160217T143000
DTSTAMP:20260424T082721
CREATED:20151124T221139Z
LAST-MODIFIED:20151124T221139Z
UID:12313-1455714900-1455719400@www.readby3rd.org
SUMMARY:"Learning English" Class
DESCRIPTION:Volunteers are available to help parents “Learn English”.    Please come and see us in the portable in the back of Anson Jones Elementary School.
URL:https://www.readby3rd.org/event/learning-english-class-9/
LOCATION:Anson Jones Elementary School\, 1400 Pecan Street\, Bryan\, TX\, 77803\, United States
END:VEVENT
BEGIN:VEVENT
DTSTART;TZID=UTC:20160213T080000
DTEND;TZID=UTC:20160213T120000
DTSTAMP:20260424T082721
CREATED:20150806T004603Z
LAST-MODIFIED:20160209T233524Z
UID:11926-1455350400-1455364800@www.readby3rd.org
SUMMARY:Read by 3rd visit A&M Corps of Cadets
DESCRIPTION:The group will leave Anson Jones Elementary at 8 AM.   Transportation will be provided.   Please bring the family.  We will leave Anson Jones at 8 AM for the Texas A&M University to visit with the Corps of Cadets.
URL:https://www.readby3rd.org/event/monthly-read-by-3rd-meeting-tentative-4/
LOCATION:Anson Jones Elementary School\, 1400 Pecan Street\, Bryan\, TX\, 77803\, United States
END:VEVENT
BEGIN:VEVENT
DTSTART;TZID=UTC:20160210T131500
DTEND;TZID=UTC:20160210T143000
DTSTAMP:20260424T082721
CREATED:20151124T221026Z
LAST-MODIFIED:20151124T221026Z
UID:12312-1455110100-1455114600@www.readby3rd.org
SUMMARY:"Learning English" class
DESCRIPTION:Volunteers are available to help parents “Learn English”.    Please come and see us in the portable in the back of Anson Jones Elementary School.
URL:https://www.readby3rd.org/event/learning-english-class-8/
LOCATION:Anson Jones Elementary School\, 1400 Pecan Street\, Bryan\, TX\, 77803\, United States
END:VEVENT
BEGIN:VEVENT
DTSTART;TZID=UTC:20160203T131500
DTEND;TZID=UTC:20160203T143000
DTSTAMP:20260424T082721
CREATED:20151124T220927Z
LAST-MODIFIED:20151124T220927Z
UID:12311-1454505300-1454509800@www.readby3rd.org
SUMMARY:"Learning English" class
DESCRIPTION:Volunteers are available to help parents “Learn English”.    Please come and see us in the portable in the back of Anson Jones Elementary School.
URL:https://www.readby3rd.org/event/learning-english-class-7/
LOCATION:Anson Jones Elementary School\, 1400 Pecan Street\, Bryan\, TX\, 77803\, United States
END:VEVENT
BEGIN:VEVENT
DTSTART;TZID=UTC:20160127T131500
DTEND;TZID=UTC:20160127T143000
DTSTAMP:20260424T082721
CREATED:20151124T220824Z
LAST-MODIFIED:20151124T224652Z
UID:12310-1453900500-1453905000@www.readby3rd.org
SUMMARY:"Learning English" class
DESCRIPTION:Volunteers are available to help parents “Learn English”.    Please come and see us in the portable in the back of Anson Jones Elementary School.
URL:https://www.readby3rd.org/event/learning-english-class-6/
LOCATION:Anson Jones Elementary School\, 1400 Pecan Street\, Bryan\, TX\, 77803\, United States
END:VEVENT
BEGIN:VEVENT
DTSTART;TZID=UTC:20160123T080000
DTEND;TZID=UTC:20160123T120000
DTSTAMP:20260424T082721
CREATED:20150806T004538Z
LAST-MODIFIED:20160113T225217Z
UID:11924-1453536000-1453550400@www.readby3rd.org
SUMMARY:Monthly Read by 3rd Meeting
DESCRIPTION:Meeting will be held at Jones Elementary School \n  \nPresentation regarding STARR tests coming up this spring.
URL:https://www.readby3rd.org/event/monthly-read-by-3rd-meeting-tentative-3/
LOCATION:Anson Jones Elementary School\, 1400 Pecan Street\, Bryan\, TX\, 77803\, United States
END:VEVENT
BEGIN:VEVENT
DTSTART;TZID=UTC:20160120T131500
DTEND;TZID=UTC:20160120T143000
DTSTAMP:20260424T082721
CREATED:20151124T220726Z
LAST-MODIFIED:20151124T224848Z
UID:12309-1453295700-1453300200@www.readby3rd.org
SUMMARY:"Learning English" class
DESCRIPTION:Volunteers are available to help parents “Learn English”.    Please come and see us in the portable in the back of Anson Jones Elementary School.
URL:https://www.readby3rd.org/event/learning-english-class-5/
LOCATION:Anson Jones Elementary School\, 1400 Pecan Street\, Bryan\, TX\, 77803\, United States
END:VEVENT
BEGIN:VEVENT
DTSTART;TZID=UTC:20160113T131500
DTEND;TZID=UTC:20160113T143000
DTSTAMP:20260424T082721
CREATED:20151124T220619Z
LAST-MODIFIED:20151124T220619Z
UID:12308-1452690900-1452695400@www.readby3rd.org
SUMMARY:"Learning English" class
DESCRIPTION:Volunteers are available to help parents “Learn English”.    Please come and see us in the portable in the back of Anson Jones Elementary School.
URL:https://www.readby3rd.org/event/learning-english-class-4/
LOCATION:TX
END:VEVENT
BEGIN:VEVENT
DTSTART;TZID=UTC:20160106T131500
DTEND;TZID=UTC:20160106T143000
DTSTAMP:20260424T082721
CREATED:20151124T220514Z
LAST-MODIFIED:20151124T220514Z
UID:12307-1452086100-1452090600@www.readby3rd.org
SUMMARY:No "Learning English" Class
DESCRIPTION:Due to New Years\, there will not be a “Learning English” class today. \nHappy New Years
URL:https://www.readby3rd.org/event/no-learning-english-class-3/
LOCATION:Anson Jones Elementary School\, 1400 Pecan Street\, Bryan\, TX\, 77803\, United States
END:VEVENT
BEGIN:VEVENT
DTSTART;TZID=UTC:20151230T131500
DTEND;TZID=UTC:20151230T143000
DTSTAMP:20260424T082721
CREATED:20151124T220317Z
LAST-MODIFIED:20151124T220317Z
UID:12306-1451481300-1451485800@www.readby3rd.org
SUMMARY:No "Learning English" Class
DESCRIPTION:Due to Christmas  and New Years\, there will not be a “Learning English” class today. \nHappy New Years
URL:https://www.readby3rd.org/event/no-learning-english-class-2/
LOCATION:Anson Jones Elementary School\, 1400 Pecan Street\, Bryan\, TX\, 77803\, United States
END:VEVENT
BEGIN:VEVENT
DTSTART;TZID=UTC:20151223T131500
DTEND;TZID=UTC:20151223T143000
DTSTAMP:20260424T082721
CREATED:20151122T174956Z
LAST-MODIFIED:20151122T174956Z
UID:12298-1450876500-1450881000@www.readby3rd.org
SUMMARY:No "Learning English" Class today
DESCRIPTION:Due to Christmas Holiday\, there will not be class today.
URL:https://www.readby3rd.org/event/no-learning-english-class-today-2/
LOCATION:Anson Jones Elementary School\, 1400 Pecan Street\, Bryan\, TX\, 77803\, United States
END:VEVENT
BEGIN:VEVENT
DTSTART;TZID=UTC:20151216T131500
DTEND;TZID=UTC:20151216T143000
DTSTAMP:20260424T082721
CREATED:20151124T214840Z
LAST-MODIFIED:20151124T214840Z
UID:12304-1450271700-1450276200@www.readby3rd.org
SUMMARY:"Learning English" class
DESCRIPTION:Volunteers are available to help parents “Learn English”.    Please come and see us in the portable in the back of Anson Jones Elementary School.
URL:https://www.readby3rd.org/event/learning-english-class-3/
LOCATION:Anson Jones Elementary School\, 1400 Pecan Street\, Bryan\, TX\, 77803\, United States
END:VEVENT
BEGIN:VEVENT
DTSTART;TZID=UTC:20151212T080000
DTEND;TZID=UTC:20151212T120000
DTSTAMP:20260424T082721
CREATED:20151118T213922Z
LAST-MODIFIED:20151118T213922Z
UID:12295-1449907200-1449921600@www.readby3rd.org
SUMMARY:December Monthly Meeting
DESCRIPTION:This is the regular Read by 3rd Monthly meeting – Agenda and reminder to be sent out.
URL:https://www.readby3rd.org/event/december-monthly-meeting/
LOCATION:Ben Milam Elementary School\, 1201 Ridgedale Street\, Bryan\, TX\, 77803\, United States
END:VEVENT
BEGIN:VEVENT
DTSTART;TZID=UTC:20151210T101500
DTEND;TZID=UTC:20151210T111500
DTSTAMP:20260424T082721
CREATED:20150911T202851Z
LAST-MODIFIED:20150911T202851Z
UID:12182-1449742500-1449746100@www.readby3rd.org
SUMMARY:Mounce Public Library - Baby (10:15 AM) & Pre-school Storytimes (10:45 AM)
DESCRIPTION:Thursday storytimes:\nBaby & Toddler Storytime\, Thursdays\, 10:15 AM \nBaby & Toddler Storytime (CBMPL) \nGet Ready to Read Storytime\, older children\, Thursdays\, 10:45 AM \nGet Ready to Read Storytime (CBMPL) \nStorytime is held upstairs.\nContact Bobbee at (979) 209-5616 for more information. \n2015 Storytime Dates\nAutumn: Thursdays\, September 10 – December 10 (no storytime on Thanksgiving\, Nov. 26) \nView full calendar
URL:https://www.readby3rd.org/event/mounce-public-library-baby-1015-am-pre-school-storytimes-1045-am-12/
LOCATION:Clara B. Mounce Public Library\, 201 E 26th Street\, Bryan\, 77803\, United States
END:VEVENT
BEGIN:VEVENT
DTSTART;TZID=UTC:20151209T131500
DTEND;TZID=UTC:20151209T143000
DTSTAMP:20260424T082721
CREATED:20151124T214736Z
LAST-MODIFIED:20151124T214736Z
UID:12303-1449666900-1449671400@www.readby3rd.org
SUMMARY:"Learning English" class
DESCRIPTION:Volunteers are available to help parents “Learn English”.    Please come and see us in the portable in the back of Anson Jones Elementary School.
URL:https://www.readby3rd.org/event/learning-english-class-2/
LOCATION:Anson Jones Elementary School\, 1400 Pecan Street\, Bryan\, TX\, 77803\, United States
END:VEVENT
BEGIN:VEVENT
DTSTART;TZID=UTC:20151208T160000
DTEND;TZID=UTC:20151208T170000
DTSTAMP:20260424T082721
CREATED:20150911T195535Z
LAST-MODIFIED:20150911T195535Z
UID:12168-1449590400-1449594000@www.readby3rd.org
SUMMARY:Mounce Public Library - After School Hour
DESCRIPTION:After School Story Hour\n\n\nDecember 8\, 2015  4:00 pm   –   5:00 pm  \n\n\nAfter School Story Hour\nfor school age kids \nTuesdays\, 4-5 PM\nSeptember 8 – December 8\, 2015 \nContact Elaine at (979) 209-5616 for more information. \n\n\nView full calendar
URL:https://www.readby3rd.org/event/mounce-public-library-after-school-hour/
LOCATION:Clara B. Mounce Public Library\, 201 E 26th Street\, Bryan\, 77803\, United States
END:VEVENT
BEGIN:VEVENT
DTSTART;TZID=UTC:20151206T140000
DTEND;TZID=UTC:20151206T160000
DTSTAMP:20260424T082721
CREATED:20151130T164933Z
LAST-MODIFIED:20151130T164933Z
UID:12337-1449410400-1449417600@www.readby3rd.org
SUMMARY:Family Holiday Craft Workshop - at Mounce Library
DESCRIPTION:Family Holiday Craft Workshop\nSunday\, December 6\n2-4 PM\nMounce Library (Bryan)\n$5 suggested donation per family for materials. For more information\, contact Bobbee at (979) 209-5616.\n\n 
URL:https://www.readby3rd.org/event/family-holiday-craft-workshop-at-mounce-library/
LOCATION:Clara B. Mounce Public Library\, 201 E 26th Street\, Bryan\, 77803\, United States
END:VEVENT
END:VCALENDAR