BEGIN:VCALENDAR
VERSION:2.0
PRODID:-//Read by 3rd - ECPv6.15.20//NONSGML v1.0//EN
CALSCALE:GREGORIAN
METHOD:PUBLISH
X-ORIGINAL-URL:https://www.readby3rd.org
X-WR-CALDESC:Events for Read by 3rd
REFRESH-INTERVAL;VALUE=DURATION:PT1H
X-Robots-Tag:noindex
X-PUBLISHED-TTL:PT1H
BEGIN:VTIMEZONE
TZID:UTC
BEGIN:STANDARD
TZOFFSETFROM:+0000
TZOFFSETTO:+0000
TZNAME:UTC
DTSTART:20140101T000000
END:STANDARD
END:VTIMEZONE
BEGIN:VEVENT
DTSTART;TZID=UTC:20160113T131500
DTEND;TZID=UTC:20160113T143000
DTSTAMP:20260424T120325
CREATED:20151124T220619Z
LAST-MODIFIED:20151124T220619Z
UID:12308-1452690900-1452695400@www.readby3rd.org
SUMMARY:"Learning English" class
DESCRIPTION:Volunteers are available to help parents “Learn English”.    Please come and see us in the portable in the back of Anson Jones Elementary School.
URL:https://www.readby3rd.org/event/learning-english-class-4/
END:VEVENT
BEGIN:VEVENT
DTSTART;TZID=UTC:20160106T131500
DTEND;TZID=UTC:20160106T143000
DTSTAMP:20260424T120325
CREATED:20151124T220514Z
LAST-MODIFIED:20151124T220514Z
UID:12307-1452086100-1452090600@www.readby3rd.org
SUMMARY:No "Learning English" Class
DESCRIPTION:Due to New Years\, there will not be a “Learning English” class today. \nHappy New Years
URL:https://www.readby3rd.org/event/no-learning-english-class-3/
LOCATION:Anson Jones Elementary School\, 1400 Pecan Street\, Bryan\, TX\, 77803\, United States
END:VEVENT
BEGIN:VEVENT
DTSTART;TZID=UTC:20151230T131500
DTEND;TZID=UTC:20151230T143000
DTSTAMP:20260424T120325
CREATED:20151124T220317Z
LAST-MODIFIED:20151124T220317Z
UID:12306-1451481300-1451485800@www.readby3rd.org
SUMMARY:No "Learning English" Class
DESCRIPTION:Due to Christmas  and New Years\, there will not be a “Learning English” class today. \nHappy New Years
URL:https://www.readby3rd.org/event/no-learning-english-class-2/
LOCATION:Anson Jones Elementary School\, 1400 Pecan Street\, Bryan\, TX\, 77803\, United States
END:VEVENT
BEGIN:VEVENT
DTSTART;TZID=UTC:20151223T131500
DTEND;TZID=UTC:20151223T143000
DTSTAMP:20260424T120325
CREATED:20151122T174956Z
LAST-MODIFIED:20151122T174956Z
UID:12298-1450876500-1450881000@www.readby3rd.org
SUMMARY:No "Learning English" Class today
DESCRIPTION:Due to Christmas Holiday\, there will not be class today.
URL:https://www.readby3rd.org/event/no-learning-english-class-today-2/
LOCATION:Anson Jones Elementary School\, 1400 Pecan Street\, Bryan\, TX\, 77803\, United States
END:VEVENT
BEGIN:VEVENT
DTSTART;TZID=UTC:20151216T131500
DTEND;TZID=UTC:20151216T143000
DTSTAMP:20260424T120325
CREATED:20151124T214840Z
LAST-MODIFIED:20151124T214840Z
UID:12304-1450271700-1450276200@www.readby3rd.org
SUMMARY:"Learning English" class
DESCRIPTION:Volunteers are available to help parents “Learn English”.    Please come and see us in the portable in the back of Anson Jones Elementary School.
URL:https://www.readby3rd.org/event/learning-english-class-3/
LOCATION:Anson Jones Elementary School\, 1400 Pecan Street\, Bryan\, TX\, 77803\, United States
END:VEVENT
BEGIN:VEVENT
DTSTART;TZID=UTC:20151212T080000
DTEND;TZID=UTC:20151212T120000
DTSTAMP:20260424T120325
CREATED:20151118T213922Z
LAST-MODIFIED:20151118T213922Z
UID:12295-1449907200-1449921600@www.readby3rd.org
SUMMARY:December Monthly Meeting
DESCRIPTION:This is the regular Read by 3rd Monthly meeting – Agenda and reminder to be sent out.
URL:https://www.readby3rd.org/event/december-monthly-meeting/
LOCATION:Ben Milam Elementary School\, 1201 Ridgedale Street\, Bryan\, TX\, 77803\, United States
END:VEVENT
BEGIN:VEVENT
DTSTART;TZID=UTC:20151210T101500
DTEND;TZID=UTC:20151210T111500
DTSTAMP:20260424T120325
CREATED:20150911T202851Z
LAST-MODIFIED:20150911T202851Z
UID:12182-1449742500-1449746100@www.readby3rd.org
SUMMARY:Mounce Public Library - Baby (10:15 AM) & Pre-school Storytimes (10:45 AM)
DESCRIPTION:Thursday storytimes:\nBaby & Toddler Storytime\, Thursdays\, 10:15 AM \nBaby & Toddler Storytime (CBMPL) \nGet Ready to Read Storytime\, older children\, Thursdays\, 10:45 AM \nGet Ready to Read Storytime (CBMPL) \nStorytime is held upstairs.\nContact Bobbee at (979) 209-5616 for more information. \n2015 Storytime Dates\nAutumn: Thursdays\, September 10 – December 10 (no storytime on Thanksgiving\, Nov. 26) \nView full calendar
URL:https://www.readby3rd.org/event/mounce-public-library-baby-1015-am-pre-school-storytimes-1045-am-12/
LOCATION:Clara B. Mounce Public Library\, 201 E 26th Street\, Bryan\, 77803\, United States
END:VEVENT
BEGIN:VEVENT
DTSTART;TZID=UTC:20151209T131500
DTEND;TZID=UTC:20151209T143000
DTSTAMP:20260424T120325
CREATED:20151124T214736Z
LAST-MODIFIED:20151124T214736Z
UID:12303-1449666900-1449671400@www.readby3rd.org
SUMMARY:"Learning English" class
DESCRIPTION:Volunteers are available to help parents “Learn English”.    Please come and see us in the portable in the back of Anson Jones Elementary School.
URL:https://www.readby3rd.org/event/learning-english-class-2/
LOCATION:Anson Jones Elementary School\, 1400 Pecan Street\, Bryan\, TX\, 77803\, United States
END:VEVENT
BEGIN:VEVENT
DTSTART;TZID=UTC:20151208T160000
DTEND;TZID=UTC:20151208T170000
DTSTAMP:20260424T120325
CREATED:20150911T195535Z
LAST-MODIFIED:20150911T195535Z
UID:12168-1449590400-1449594000@www.readby3rd.org
SUMMARY:Mounce Public Library - After School Hour
DESCRIPTION:After School Story Hour\n\n\nDecember 8\, 2015  4:00 pm   –   5:00 pm  \n\n\nAfter School Story Hour\nfor school age kids \nTuesdays\, 4-5 PM\nSeptember 8 – December 8\, 2015 \nContact Elaine at (979) 209-5616 for more information. \n\n\nView full calendar
URL:https://www.readby3rd.org/event/mounce-public-library-after-school-hour/
LOCATION:Clara B. Mounce Public Library\, 201 E 26th Street\, Bryan\, 77803\, United States
END:VEVENT
BEGIN:VEVENT
DTSTART;TZID=UTC:20151206T140000
DTEND;TZID=UTC:20151206T160000
DTSTAMP:20260424T120325
CREATED:20151130T164933Z
LAST-MODIFIED:20151130T164933Z
UID:12337-1449410400-1449417600@www.readby3rd.org
SUMMARY:Family Holiday Craft Workshop - at Mounce Library
DESCRIPTION:Family Holiday Craft Workshop\nSunday\, December 6\n2-4 PM\nMounce Library (Bryan)\n$5 suggested donation per family for materials. For more information\, contact Bobbee at (979) 209-5616.\n\n 
URL:https://www.readby3rd.org/event/family-holiday-craft-workshop-at-mounce-library/
LOCATION:Clara B. Mounce Public Library\, 201 E 26th Street\, Bryan\, 77803\, United States
END:VEVENT
BEGIN:VEVENT
DTSTART;TZID=UTC:20151205T140000
DTEND;TZID=UTC:20151205T160000
DTSTAMP:20260424T120325
CREATED:20151130T164235Z
LAST-MODIFIED:20151130T164235Z
UID:12333-1449324000-1449331200@www.readby3rd.org
SUMMARY:Free Family Movie at Ringer Library - Rudolph the Red-Nosed Reindeer
DESCRIPTION:All Ages\n\nFREE FAMILY MOVIE: \nRUDOLPH THE RED-NOSED REINDEER\nSaturday\, December 5\n2-4 PM\nRinger Library (College Station)\n\nJoin us for a free animated Christmas classic\, rated G.\nSummary: A misfit reindeer and his friends look for a place that will accept them. This movie first aired on TV in 1964 and includes the voice of Burl Ives as the Sam the Snowman. All ages welcome. Light snacks provided. \n\nCall (979) 764-3416 for more information.\n 
URL:https://www.readby3rd.org/event/free-family-movie-at-ringer-library-rudolph-the-red-nosed-reindeer/
LOCATION:Ringer Library\, 1818 Harvey Mitchell Pkwy S\, College Station\, TX\, 77845\, United States
END:VEVENT
BEGIN:VEVENT
DTSTART;TZID=UTC:20151205T100000
DTEND;TZID=UTC:20151205T123000
DTSTAMP:20260424T120325
CREATED:20151118T164601Z
LAST-MODIFIED:20151201T200449Z
UID:12293-1449309600-1449318600@www.readby3rd.org
SUMMARY:Read by 3rd Christmas Party at Bush Library/Museum
DESCRIPTION:Read by 3rd’s Christmas Party will be a trip to the Bush Library/Museum.   Transportation will be provided and will depart promptly at 10 AM from Ben Milam Elementary School.   Please be a Ben Milam Elementary School prior to the 10 AM departure. \n  \nThe museum will have cookies and treats with a Christmas theme.
URL:https://www.readby3rd.org/event/read-by-3rd-christmas-party-at-bush-librarymuseum/
LOCATION:Ben Milam Elementary School\, 1201 Ridgedale Street\, Bryan\, TX\, 77803\, United States
END:VEVENT
BEGIN:VEVENT
DTSTART;TZID=UTC:20151205T100000
DTEND;TZID=UTC:20151205T110000
DTSTAMP:20260424T120325
CREATED:20151130T164347Z
LAST-MODIFIED:20151130T164347Z
UID:12335-1449309600-1449313200@www.readby3rd.org
SUMMARY:Winter Holiday Storytime Party at Ringer Library
DESCRIPTION:Winter Holiday Storytime Party\nSaturday\, December 5\n10-11 AM\nRinger Library (College Station)\nStories\, snacks\, and crafts. All ages welcome. Teen volunteers will also put on a short winter play for the kids. For more details\, contact Suzy at (979) 764-3416.\n 
URL:https://www.readby3rd.org/event/winter-holiday-storytime-party-at-ringer-library/
LOCATION:Ringer Library\, 1818 Harvey Mitchell Pkwy S\, College Station\, TX\, 77845\, United States
END:VEVENT
BEGIN:VEVENT
DTSTART;TZID=UTC:20151203T101500
DTEND;TZID=UTC:20151203T111500
DTSTAMP:20260424T120325
CREATED:20150911T202801Z
LAST-MODIFIED:20150911T202801Z
UID:12181-1449137700-1449141300@www.readby3rd.org
SUMMARY:Mounce Public Library - Baby (10:15 AM) & Pre-school Storytimes (10:45 AM)
DESCRIPTION:Thursday storytimes:\nBaby & Toddler Storytime\, Thursdays\, 10:15 AM \nBaby & Toddler Storytime (CBMPL) \nGet Ready to Read Storytime\, older children\, Thursdays\, 10:45 AM \nGet Ready to Read Storytime (CBMPL) \nStorytime is held upstairs.\nContact Bobbee at (979) 209-5616 for more information. \n2015 Storytime Dates\nAutumn: Thursdays\, September 10 – December 10 (no storytime on Thanksgiving\, Nov. 26) \nView full calendar
URL:https://www.readby3rd.org/event/mounce-public-library-baby-1015-am-pre-school-storytimes-1045-am-11/
LOCATION:Clara B. Mounce Public Library\, 201 E 26th Street\, Bryan\, 77803\, United States
END:VEVENT
BEGIN:VEVENT
DTSTART;TZID=UTC:20151202T131500
DTEND;TZID=UTC:20151202T143000
DTSTAMP:20260424T120325
CREATED:20151124T214531Z
LAST-MODIFIED:20151124T214531Z
UID:12302-1449062100-1449066600@www.readby3rd.org
SUMMARY:"Learning English" class
DESCRIPTION:Volunteers are available to help parents “Learn English”.    Please come and see us.
URL:https://www.readby3rd.org/event/learning-english-class/
LOCATION:Anson Jones Elementary School\, 1400 Pecan Street\, Bryan\, TX\, 77803\, United States
END:VEVENT
BEGIN:VEVENT
DTSTART;TZID=UTC:20151201T160000
DTEND;TZID=UTC:20151201T170000
DTSTAMP:20260424T120325
CREATED:20150911T195437Z
LAST-MODIFIED:20150911T195437Z
UID:12167-1448985600-1448989200@www.readby3rd.org
SUMMARY:Mounce Public Library - After School Story Hour
DESCRIPTION:After School Story Hour\n\n\nDecember 1\, 2015  4:00 pm   –   5:00 pm  \n\n\nAfter School Story Hour\nfor school age kids \nTuesdays\, 4-5 PM\nSeptember 8 – December 8\, 2015 \nContact Elaine at (979) 209-5616 for more information. \n\n\nView full calendar
URL:https://www.readby3rd.org/event/mounce-public-library-after-school-story-hour-13/
LOCATION:Clara B. Mounce Public Library\, 201 E 26th Street\, Bryan\, 77803\, United States
END:VEVENT
BEGIN:VEVENT
DTSTART;TZID=UTC:20151125T131500
DTEND;TZID=UTC:20151125T143000
DTSTAMP:20260424T120325
CREATED:20151122T173919Z
LAST-MODIFIED:20151122T173919Z
UID:12296-1448457300-1448461800@www.readby3rd.org
SUMMARY:No "Learning English" Class today
DESCRIPTION:Due to the Thanksgiving Holiday\, we are not having a class today.
URL:https://www.readby3rd.org/event/no-learning-english-class-today/
LOCATION:Anson Jones Elementary School\, 1400 Pecan Street\, Bryan\, TX\, 77803\, United States
END:VEVENT
BEGIN:VEVENT
DTSTART;TZID=UTC:20151124T160000
DTEND;TZID=UTC:20151124T170000
DTSTAMP:20260424T120325
CREATED:20150911T195340Z
LAST-MODIFIED:20150911T195340Z
UID:12166-1448380800-1448384400@www.readby3rd.org
SUMMARY:Mounce Public Library - After School Story Hour
DESCRIPTION:After School Story Hour\n\n\nNovember 24\, 2015  4:00 pm   –   5:00 pm  \n\n\nAfter School Story Hour\nfor school age kids \nTuesdays\, 4-5 PM\nSeptember 8 – December 8\, 2015 \nContact Elaine at (979) 209-5616 for more information. \n\n\nView full calendar
URL:https://www.readby3rd.org/event/mounce-public-library-after-school-story-hour-12/
LOCATION:Clara B. Mounce Public Library\, 201 E 26th Street\, Bryan\, 77803\, United States
END:VEVENT
BEGIN:VEVENT
DTSTART;TZID=UTC:20151119T101500
DTEND;TZID=UTC:20151119T111500
DTSTAMP:20260424T120325
CREATED:20150911T202704Z
LAST-MODIFIED:20150911T202704Z
UID:12180-1447928100-1447931700@www.readby3rd.org
SUMMARY:Mounce Public Library - Baby (10:15 AM) & Pre-school Storytimes (10:45 AM)
DESCRIPTION:Thursday storytimes:\nBaby & Toddler Storytime\, Thursdays\, 10:15 AM \nBaby & Toddler Storytime (CBMPL) \nGet Ready to Read Storytime\, older children\, Thursdays\, 10:45 AM \nGet Ready to Read Storytime (CBMPL) \nStorytime is held upstairs.\nContact Bobbee at (979) 209-5616 for more information. \n2015 Storytime Dates\nAutumn: Thursdays\, September 10 – December 10 (no storytime on Thanksgiving\, Nov. 26) \nView full calendar
URL:https://www.readby3rd.org/event/mounce-public-library-baby-1015-am-pre-school-storytimes-1045-am-10/
LOCATION:Clara B. Mounce Public Library\, 201 E 26th Street\, Bryan\, 77803\, United States
END:VEVENT
BEGIN:VEVENT
DTSTART;TZID=UTC:20151117T160000
DTEND;TZID=UTC:20151117T170000
DTSTAMP:20260424T120325
CREATED:20150911T195253Z
LAST-MODIFIED:20150911T195253Z
UID:12165-1447776000-1447779600@www.readby3rd.org
SUMMARY:Mounce Public Library - After School Story Hour
DESCRIPTION:After School Story Hour\n\n\nNovember 17\, 2015  4:00 pm   –   5:00 pm  \n\n\nAfter School Story Hour\nfor school age kids \nTuesdays\, 4-5 PM\nSeptember 8 – December 8\, 2015 \nContact Elaine at (979) 209-5616 for more information. \n\n\nView full calendar
URL:https://www.readby3rd.org/event/mounce-public-library-after-school-story-hour-11/
LOCATION:Clara B. Mounce Public Library\, 201 E 26th Street\, Bryan\, 77803\, United States
END:VEVENT
BEGIN:VEVENT
DTSTART;TZID=UTC:20151115T100000
DTEND;TZID=UTC:20151115T170000
DTSTAMP:20260424T120325
CREATED:20150911T210206Z
LAST-MODIFIED:20150911T210525Z
UID:12189-1447581600-1447606800@www.readby3rd.org
SUMMARY:FREE – visit the traveling Vietnam Veterans Memorial Wall
DESCRIPTION:November 12 – 15 @ 10:00 am – 5:00 pm\nThe Museum of the American G.I. proudly presents\nhttp://americangimuseum.org/events/lest-we-forget/ \nThe AVTT Traveling Vietnam Wall \nNovember 12-15\, 2015 \nHonoring the 58\,300 men and women who gave their lives while serving their country during the Vietnam War and those who served and suffered in WWI to the present
URL:https://www.readby3rd.org/event/free-visit-the-traveling-vietnam-veterans-memorial-wall-november-12-15-1000-am-500-pm-the-museum-of-the-american-g-i-proudly-presents-httpamericangimuseum-orgeventslest-we-forg/
LOCATION:The Museum of the American GI\, 19124 Texas 6\, College Station\, TX\, 77845\, United States
END:VEVENT
BEGIN:VEVENT
DTSTART;TZID=UTC:20151114T100000
DTEND;TZID=UTC:20151114T170000
DTSTAMP:20260424T120325
CREATED:20150911T210118Z
LAST-MODIFIED:20150911T210118Z
UID:12188-1447495200-1447520400@www.readby3rd.org
SUMMARY:FREE – visit the traveling Vietnam Veterans Memorial Wall
DESCRIPTION:November 12- 15 @ 10:00 am – 5:00 pm\nThe Museum of the American G.I. proudly presents\nhttp://americangimuseum.org/events/lest-we-forget/ \nThe AVTT Traveling Vietnam Wall \nNovember 12-15\, 2015 \nHonoring the 58\,300 men and women who gave their lives while serving their country during the Vietnam War and those who served and suffered in WWI to the present
URL:https://www.readby3rd.org/event/free-visit-the-traveling-vietnam-veterans-memorial-wall-3/
LOCATION:The Museum of the American GI\, 19124 Texas 6\, College Station\, TX\, 77845\, United States
END:VEVENT
BEGIN:VEVENT
DTSTART;TZID=UTC:20151114T080000
DTEND;TZID=UTC:20151114T120000
DTSTAMP:20260424T120325
CREATED:20150806T004431Z
LAST-MODIFIED:20151010T190655Z
UID:11922-1447488000-1447502400@www.readby3rd.org
SUMMARY:Monthly Read by 3rd Meeting
DESCRIPTION:Regular monthly meeting with parents\, educators & volunteers.  Agenda to be decided upon. \nLocation:  Anson Jones Elementary School \nTime:         8 AM – Noon
URL:https://www.readby3rd.org/event/monthly-read-by-3rd-meeting-tentative/
LOCATION:Anson Jones Elementary School\, 1400 Pecan Street\, Bryan\, TX\, 77803\, United States
END:VEVENT
BEGIN:VEVENT
DTSTART;TZID=UTC:20151113T100000
DTEND;TZID=UTC:20151113T170000
DTSTAMP:20260424T120325
CREATED:20150911T210008Z
LAST-MODIFIED:20150911T210008Z
UID:12187-1447408800-1447434000@www.readby3rd.org
SUMMARY:FREE – visit the traveling Vietnam Veterans Memorial Wall
DESCRIPTION:November 13 @ 10:00 am – 5:00 pm\n\n\n\nThe Museum of the American G.I.  proudly presents\nhttp://americangimuseum.org/events/lest-we-forget/ \nThe AVTT Traveling Vietnam Wall \nNovember 12-15\, 2015 \nHonoring the 58\,300 men and women who gave their lives while serving their country during the Vietnam War and those who served and suffered in WWI to the present
URL:https://www.readby3rd.org/event/free-visit-the-traveling-vietnam-veterans-memorial-wall-2/
LOCATION:The Museum of the American GI\, 19124 Texas 6\, College Station\, TX\, 77845\, United States
END:VEVENT
BEGIN:VEVENT
DTSTART;TZID=UTC:20151112T101500
DTEND;TZID=UTC:20151112T111500
DTSTAMP:20260424T120325
CREATED:20150911T202614Z
LAST-MODIFIED:20150911T202614Z
UID:12179-1447323300-1447326900@www.readby3rd.org
SUMMARY:Mounce Public Library - Baby (10:15 AM) & Pre-school Storytimes (10:45 AM)
DESCRIPTION:Thursday storytimes:\nBaby & Toddler Storytime\, Thursdays\, 10:15 AM \nBaby & Toddler Storytime (CBMPL) \nGet Ready to Read Storytime\, older children\, Thursdays\, 10:45 AM \nGet Ready to Read Storytime (CBMPL) \nStorytime is held upstairs.\nContact Bobbee at (979) 209-5616 for more information. \n2015 Storytime Dates\nAutumn: Thursdays\, September 10 – December 10 (no storytime on Thanksgiving\, Nov. 26) \nView full calendar
URL:https://www.readby3rd.org/event/mounce-public-library-baby-1015-am-pre-school-storytimes-1045-am-9/
LOCATION:Clara B. Mounce Public Library\, 201 E 26th Street\, Bryan\, 77803\, United States
END:VEVENT
BEGIN:VEVENT
DTSTART;TZID=UTC:20151110T160000
DTEND;TZID=UTC:20151110T170000
DTSTAMP:20260424T120325
CREATED:20150911T195156Z
LAST-MODIFIED:20150911T195156Z
UID:12164-1447171200-1447174800@www.readby3rd.org
SUMMARY:Mounce Public Library- After School Story Hour
DESCRIPTION:After School Story Hour\n\n\nNovember 10\, 2015  4:00 pm   –   5:00 pm  \n\n\nAfter School Story Hour\nfor school age kids \nTuesdays\, 4-5 PM\nSeptember 8 – December 8\, 2015 \nContact Elaine at (979) 209-5616 for more information. \n\n\nView full calendar
URL:https://www.readby3rd.org/event/mounce-public-library-after-school-story-hour-10/
LOCATION:Clara B. Mounce Public Library\, 201 E 26th Street\, Bryan\, 77803\, United States
END:VEVENT
BEGIN:VEVENT
DTSTART;TZID=UTC:20151105T101500
DTEND;TZID=UTC:20151105T111500
DTSTAMP:20260424T120325
CREATED:20150911T202523Z
LAST-MODIFIED:20150911T202523Z
UID:12178-1446718500-1446722100@www.readby3rd.org
SUMMARY:Mounce Public Library - Baby (10:15 AM) & Pre-school Storytimes (10:45 AM)
DESCRIPTION:Thursday storytimes:\nBaby & Toddler Storytime\, Thursdays\, 10:15 AM \nBaby & Toddler Storytime (CBMPL) \nGet Ready to Read Storytime\, older children\, Thursdays\, 10:45 AM \nGet Ready to Read Storytime (CBMPL) \nStorytime is held upstairs.\nContact Bobbee at (979) 209-5616 for more information. \n2015 Storytime Dates\nAutumn: Thursdays\, September 10 – December 10 (no storytime on Thanksgiving\, Nov. 26) \nView full calendar
URL:https://www.readby3rd.org/event/mounce-public-library-baby-1015-am-pre-school-storytimes-1045-am-8/
LOCATION:Clara B. Mounce Public Library\, 201 E 26th Street\, Bryan\, 77803\, United States
END:VEVENT
BEGIN:VEVENT
DTSTART;TZID=UTC:20151103T160000
DTEND;TZID=UTC:20151103T170000
DTSTAMP:20260424T120325
CREATED:20150911T195056Z
LAST-MODIFIED:20150911T195056Z
UID:12163-1446566400-1446570000@www.readby3rd.org
SUMMARY:Mounce Public Library - After School Story Hour
DESCRIPTION:After School Story Hour\n\n\nNovember 3\, 2015  4:00 pm   –   5:00 pm  \n\n\nAfter School Story Hour\nfor school age kids \nTuesdays\, 4-5 PM\nSeptember 8 – December 8\, 2015 \nContact Elaine at (979) 209-5616 for more information. \n\n\nView full calendar
URL:https://www.readby3rd.org/event/mounce-public-library-after-school-story-hour-9/
LOCATION:Clara B. Mounce Public Library\, 201 E 26th Street\, Bryan\, 77803\, United States
END:VEVENT
BEGIN:VEVENT
DTSTART;TZID=UTC:20151029T101500
DTEND;TZID=UTC:20151029T111500
DTSTAMP:20260424T120325
CREATED:20150911T202431Z
LAST-MODIFIED:20150911T202431Z
UID:12177-1446113700-1446117300@www.readby3rd.org
SUMMARY:Mounce Public Library - Baby (10:15 AM) & Pre-school Storytimes (10:45 AM)
DESCRIPTION:Thursday storytimes:\nBaby & Toddler Storytime\, Thursdays\, 10:15 AM \nBaby & Toddler Storytime (CBMPL) \nGet Ready to Read Storytime\, older children\, Thursdays\, 10:45 AM \nGet Ready to Read Storytime (CBMPL) \nStorytime is held upstairs.\nContact Bobbee at (979) 209-5616 for more information. \n2015 Storytime Dates\nAutumn: Thursdays\, September 10 – December 10 (no storytime on Thanksgiving\, Nov. 26) \nView full calendar
URL:https://www.readby3rd.org/event/mounce-public-library-baby-1015-am-pre-school-storytimes-1045-am-7/
LOCATION:Clara B. Mounce Public Library\, 201 E 26th Street\, Bryan\, 77803\, United States
END:VEVENT
BEGIN:VEVENT
DTSTART;TZID=UTC:20151027T160000
DTEND;TZID=UTC:20151027T170000
DTSTAMP:20260424T120325
CREATED:20150911T194943Z
LAST-MODIFIED:20150911T194943Z
UID:12162-1445961600-1445965200@www.readby3rd.org
SUMMARY:Mounce Public Library - After School Story Hour
DESCRIPTION:After School Story Hour\n\n\nOctober 27\, 2015  4:00 pm   –   5:00 pm  \n\n\nAfter School Story Hour\nfor school age kids \nTuesdays\, 4-5 PM\nSeptember 8 – December 8\, 2015 \nContact Elaine at (979) 209-5616 for more information. \n\n\nView full calendar
URL:https://www.readby3rd.org/event/mounce-public-library-after-school-story-hour-8/
LOCATION:Clara B. Mounce Public Library\, 201 E 26th Street\, Bryan\, 77803\, United States
END:VEVENT
END:VCALENDAR