BEGIN:VCALENDAR
VERSION:2.0
PRODID:-//Read by 3rd - ECPv6.15.20//NONSGML v1.0//EN
CALSCALE:GREGORIAN
METHOD:PUBLISH
X-ORIGINAL-URL:https://www.readby3rd.org
X-WR-CALDESC:Events for Read by 3rd
REFRESH-INTERVAL;VALUE=DURATION:PT1H
X-Robots-Tag:noindex
X-PUBLISHED-TTL:PT1H
BEGIN:VTIMEZONE
TZID:UTC
BEGIN:STANDARD
TZOFFSETFROM:+0000
TZOFFSETTO:+0000
TZNAME:UTC
DTSTART:20170101T000000
END:STANDARD
END:VTIMEZONE
BEGIN:VEVENT
DTSTART;TZID=UTC:20190112T080000
DTEND;TZID=UTC:20190112T120000
DTSTAMP:20260423T191650
CREATED:20180907T164055Z
LAST-MODIFIED:20180907T165822Z
UID:13508-1547280000-1547294400@www.readby3rd.org
SUMMARY:Read by 3rd - Monthly Meeting at Jones Elementary
DESCRIPTION:All sessions are open to all Bryan ISD families.
URL:https://www.readby3rd.org/event/read-by-3rd-monthly-meeting-16/
LOCATION:Anson Jones Elementary School\, 1400 Pecan Street\, Bryan\, TX 77803\, Bryan
END:VEVENT
BEGIN:VEVENT
DTSTART;TZID=UTC:20181215T080000
DTEND;TZID=UTC:20181215T120000
DTSTAMP:20260423T191650
CREATED:20180907T163953Z
LAST-MODIFIED:20180907T165526Z
UID:13506-1544860800-1544875200@www.readby3rd.org
SUMMARY:Read by 3rd - Monthly Meeting at Fannin Elementary
DESCRIPTION:All sessions are open to all Bryan ISD families.
URL:https://www.readby3rd.org/event/read-by-3rd-monthly-meeting-15/
LOCATION:Fannin Elementary School\, 1200 Baker Ave\, Bryan\, TX\, 77803\, United States
END:VEVENT
BEGIN:VEVENT
DTSTART;TZID=UTC:20181127T190000
DTEND;TZID=UTC:20181127T203000
DTSTAMP:20260423T191650
CREATED:20180926T200224Z
LAST-MODIFIED:20180926T200224Z
UID:13553-1543345200-1543350600@www.readby3rd.org
SUMMARY:American Brass Quintet - Friends of Chamber Music - 2018/2019 Season
DESCRIPTION:The Friends of Chamber Music – Concert Series for 2018-2019 Season\nAmerican Brass Quintet will perform at First Presbyterian Church\nFree Admission – Meet Artists – Free Childcare – Free Parking \nwww.communitychamberconcerts.org
URL:https://www.readby3rd.org/event/american-brass-quintet-friends-of-chamber-music-2018-2019-season/
LOCATION:First Presbyterian Church\, 1100 Carter Creek Pkwy\, Bryan\, TX\, 77802\, United States
END:VEVENT
BEGIN:VEVENT
DTSTART;TZID=UTC:20181110T080000
DTEND;TZID=UTC:20181110T120000
DTSTAMP:20260423T191650
CREATED:20180907T163849Z
LAST-MODIFIED:20180907T165601Z
UID:13504-1541836800-1541851200@www.readby3rd.org
SUMMARY:Read by 3rd - Monthly Meeting at Jones Elementary
DESCRIPTION:All sessions are open to all Bryan ISD families.
URL:https://www.readby3rd.org/event/read-by-3rd-monthly-meeting-14/
LOCATION:Anson Jones Elementary School\, 1400 Pecan Street\, Bryan\, TX 77803\, Bryan
END:VEVENT
BEGIN:VEVENT
DTSTART;TZID=UTC:20181106T113000
DTEND;TZID=UTC:20181106T120000
DTSTAMP:20260423T191650
CREATED:20181017T163211Z
LAST-MODIFIED:20181017T163211Z
UID:13590-1541503800-1541505600@www.readby3rd.org
SUMMARY:Ribbon Cutting - Reading Clinic (A&M University) at Fannin Elementary School
DESCRIPTION:Read by 3rd\, Bryan ISD and A&M University opening a Reading Clinic for children who need assistance in Reading.
URL:https://www.readby3rd.org/event/ribbon-cutting-reading-clinic-am-university-at-fannin-elementary-school/
LOCATION:Fannin Elementary School\, 1200 Baker Ave\, Bryan\, TX\, 77803\, United States
END:VEVENT
BEGIN:VEVENT
DTSTART;TZID=UTC:20181026T190000
DTEND;TZID=UTC:20181026T203000
DTSTAMP:20260423T191650
CREATED:20180926T195723Z
LAST-MODIFIED:20180926T201058Z
UID:13548-1540580400-1540585800@www.readby3rd.org
SUMMARY:Friend of Chamber Music - Free Concert - Bach Society Houston
DESCRIPTION:The Friends of Chamber Music – Concert Series for 2018-2019 Season\nBach Society Houston will perform at A&M United Methodist Church\nFree Admission – Meet Artists – Free Childcare – Free Parking \nwww.communitychamberconcerts.org
URL:https://www.readby3rd.org/event/friend-of-chamber-music-free-concert-bach-society-houston/
LOCATION:A&M United Methodist Church\, 417 University Drive\, College Station\, TX\, 77840\, United States
END:VEVENT
BEGIN:VEVENT
DTSTART;TZID=UTC:20181018T113000
DTEND;TZID=UTC:20181018T120000
DTSTAMP:20260423T191650
CREATED:20181017T163044Z
LAST-MODIFIED:20181017T163044Z
UID:13588-1539862200-1539864000@www.readby3rd.org
SUMMARY:Ribbon Cutting - for Reading Clinic (A&M University) at Jones Elementary School
DESCRIPTION:Read by 3rd\, Bryan ISD and A&M University opening a Reading Clinic for children who need assistance in Reading.
URL:https://www.readby3rd.org/event/ribbon-cutting-for-reading-clinic-am-university-at-jones-elementary-school/
LOCATION:Anson Jones Elementary School\, 1400 Pecan Street\, Bryan\, TX\, 77803\, United States
END:VEVENT
BEGIN:VEVENT
DTSTART;TZID=UTC:20181013T080000
DTEND;TZID=UTC:20181013T120000
DTSTAMP:20260423T191650
CREATED:20180907T163724Z
LAST-MODIFIED:20180907T165324Z
UID:13502-1539417600-1539432000@www.readby3rd.org
SUMMARY:Read by 3rd - Monthly Meeting at Fannin Elementary
DESCRIPTION:All sessions are open to all Bryan ISD families even if your students.
URL:https://www.readby3rd.org/event/read-by-3rd-monthly-meeting-13/
LOCATION:Fannin Elementary School\, 1200 Baker Ave\, Bryan\, TX\, 77803\, United States
END:VEVENT
BEGIN:VEVENT
DTSTART;TZID=UTC:20180916T100000
DTEND;TZID=UTC:20180916T120000
DTSTAMP:20260423T191650
CREATED:20180907T164528Z
LAST-MODIFIED:20180907T164528Z
UID:13514-1537092000-1537099200@www.readby3rd.org
SUMMARY:Read by 3rd - march in Fiestas Patrias Parade
DESCRIPTION:
URL:https://www.readby3rd.org/event/read-by-3rd-march-in-fiestas-patrias-parade/
LOCATION:Bryan\, Texas
END:VEVENT
BEGIN:VEVENT
DTSTART;TZID=UTC:20180726T101500
DTEND;TZID=UTC:20180726T120000
DTSTAMP:20260423T191650
CREATED:20180523T191044Z
LAST-MODIFIED:20180523T191044Z
UID:13401-1532600100-1532606400@www.readby3rd.org
SUMMARY:Weekly Story Times - no ticket or registration required
DESCRIPTION:Every Thursday morning story-times between June 7 and July 26: \nBaby/Toddler (ages 0-3)          10:15 AM \nGet Ready to Read (ages 3-5)  10:40 AM
URL:https://www.readby3rd.org/event/weekly-story-times-no-ticket-or-registration-required-7/
LOCATION:Clara B. Mounce Public Library\, 201 E 26th Street\, Bryan\, 77803\, United States
END:VEVENT
BEGIN:VEVENT
DTSTART;TZID=UTC:20180725T103000
DTEND;TZID=UTC:20180725T120000
DTSTAMP:20260423T191650
CREATED:20180523T190021Z
LAST-MODIFIED:20180523T190021Z
UID:13385-1532514600-1532520000@www.readby3rd.org
SUMMARY:Summer Shows with Free Tickets - Domino's Dough Show
DESCRIPTION:This is a Summer Show\, but you need to have a free ticket and it’s limited to the first 100. \nThe 100 limit is due to fire code and the tickets will be handed out 30 minutes before each show.
URL:https://www.readby3rd.org/event/summer-shows-with-free-tickets-dominos-dough-show/
LOCATION:Clara B. Mounce Public Library\, 201 E 26th Street\, Bryan\, 77803\, United States
END:VEVENT
BEGIN:VEVENT
DTSTART;TZID=UTC:20180721T103000
DTEND;TZID=UTC:20180721T170000
DTSTAMP:20260423T191650
CREATED:20180523T184252Z
LAST-MODIFIED:20180523T184252Z
UID:13365-1532169000-1532192400@www.readby3rd.org
SUMMARY:KnK Reptile Show
DESCRIPTION:This is a come & go event – no ticket or registration required. \nIt starts at 10:30 AM – not sure when it’s done \nThe event will be at the Clara B. Mounce Public Library
URL:https://www.readby3rd.org/event/knk-reptile-show/
LOCATION:Clara B. Mounce Public Library\, 201 E 26th Street\, Bryan\, 77803\, United States
END:VEVENT
BEGIN:VEVENT
DTSTART;TZID=UTC:20180719T101500
DTEND;TZID=UTC:20180719T120000
DTSTAMP:20260423T191650
CREATED:20180523T190952Z
LAST-MODIFIED:20180523T190952Z
UID:13399-1531995300-1532001600@www.readby3rd.org
SUMMARY:Weekly Story Times - no ticket or registration required
DESCRIPTION:Every Thursday morning story-times between June 7 and July 26: \nBaby/Toddler (ages 0-3)          10:15 AM \nGet Ready to Read (ages 3-5)  10:40 AM
URL:https://www.readby3rd.org/event/weekly-story-times-no-ticket-or-registration-required-6/
LOCATION:Clara B. Mounce Public Library\, 201 E 26th Street\, Bryan\, 77803\, United States
END:VEVENT
BEGIN:VEVENT
DTSTART;TZID=UTC:20180718T103000
DTEND;TZID=UTC:20180718T170000
DTSTAMP:20260423T191650
CREATED:20180523T184123Z
LAST-MODIFIED:20180523T184142Z
UID:13362-1531909800-1531933200@www.readby3rd.org
SUMMARY:Science Rocks the Library
DESCRIPTION:This is a come & go event – no ticket or registration required. \nIt starts at 10:30 AM – not sure when it’s done \nThe event will be at the Clara B. Mounce Public Library
URL:https://www.readby3rd.org/event/sience-rocks-the-library/
LOCATION:Clara B. Mounce Public Library\, 201 E 26th Street\, Bryan\, 77803\, United States
END:VEVENT
BEGIN:VEVENT
DTSTART;TZID=UTC:20180714T120000
DTEND;TZID=UTC:20180714T150000
DTSTAMP:20260423T191650
CREATED:20180523T185918Z
LAST-MODIFIED:20180523T185918Z
UID:13383-1531569600-1531580400@www.readby3rd.org
SUMMARY:Summer Shows with Free Tickets - TAMU Chemistry Road Show
DESCRIPTION:This is a Summer Show\, but you need to have a free ticket and it’s limited to the first 100. \nThe 100 limit is due to fire code and the tickets will be handed out 30 minutes before each show.
URL:https://www.readby3rd.org/event/summer-shows-with-free-tickets-tamu-chemistry-road-show/
LOCATION:Clara B. Mounce Public Library\, 201 E 26th Street\, Bryan\, 77803\, United States
END:VEVENT
BEGIN:VEVENT
DTSTART;TZID=UTC:20180713T183000
DTEND;TZID=UTC:20180713T203000
DTSTAMP:20260423T191650
CREATED:20180523T183958Z
LAST-MODIFIED:20180523T183958Z
UID:13360-1531506600-1531513800@www.readby3rd.org
SUMMARY:Family Game Night (ages 4+)
DESCRIPTION:This is a come & go event – no ticket or registration required. \nThe event will be at the Clara B. Mounce Public Library
URL:https://www.readby3rd.org/event/family-game-night-ages-4-2/
LOCATION:Clara B. Mounce Public Library\, 201 E 26th Street\, Bryan\, 77803\, United States
END:VEVENT
BEGIN:VEVENT
DTSTART;TZID=UTC:20180712T101500
DTEND;TZID=UTC:20180712T120000
DTSTAMP:20260423T191650
CREATED:20180523T190859Z
LAST-MODIFIED:20180523T190859Z
UID:13397-1531390500-1531396800@www.readby3rd.org
SUMMARY:Weekly Story Times - no ticket or registration required
DESCRIPTION:Every Thursday morning story-times between June 7 and July 26: \nBaby/Toddler (ages 0-3)          10:15 AM \nGet Ready to Read (ages 3-5)  10:40 AM
URL:https://www.readby3rd.org/event/weekly-story-times-no-ticket-or-registration-required-5/
LOCATION:Clara B. Mounce Public Library\, 201 E 26th Street\, Bryan\, 77803\, United States
END:VEVENT
BEGIN:VEVENT
DTSTART;TZID=UTC:20180711T103000
DTEND;TZID=UTC:20180711T120000
DTSTAMP:20260423T191650
CREATED:20180523T185812Z
LAST-MODIFIED:20180523T185812Z
UID:13381-1531305000-1531310400@www.readby3rd.org
SUMMARY:Summer Shows with Free Tickets - Libraries Rock!  Make Some Music!
DESCRIPTION:This is a Summer Show\, but you need to have a free ticket and it’s limited to the first 100. \nThe 100 limit is due to fire code and the tickets will be handed out 30 minutes before each show.
URL:https://www.readby3rd.org/event/summer-shows-with-free-tickets-libraries-rock-make-some-music/
LOCATION:Clara B. Mounce Public Library\, 201 E 26th Street\, Bryan\, 77803\, United States
END:VEVENT
BEGIN:VEVENT
DTSTART;TZID=UTC:20180705T101500
DTEND;TZID=UTC:20180705T120000
DTSTAMP:20260423T191650
CREATED:20180523T190806Z
LAST-MODIFIED:20180523T190806Z
UID:13395-1530785700-1530792000@www.readby3rd.org
SUMMARY:Weekly Story times - no ticket or registration required
DESCRIPTION:Every Thursday morning story-times between June 7 and July 26: \nBaby/Toddler (ages 0-3)          10:15 AM \nGet Ready to Read (ages 3-5)  10:40 AM
URL:https://www.readby3rd.org/event/weekly-story-times-no-ticket-or-registration-required-4/
LOCATION:Clara B. Mounce Public Library\, 201 E 26th Street\, Bryan\, 77803\, United States
END:VEVENT
BEGIN:VEVENT
DTSTART;TZID=UTC:20180628T101500
DTEND;TZID=UTC:20180628T120000
DTSTAMP:20260423T191650
CREATED:20180523T190704Z
LAST-MODIFIED:20180523T190704Z
UID:13393-1530180900-1530187200@www.readby3rd.org
SUMMARY:Weekly Story Times - no ticket or registration required
DESCRIPTION:Every Thursday morning story-times between June 7 and July 26: \nBaby/Toddler (ages 0-3)          10:15 AM \nGet Ready to Read (ages 3-5)  10:40 AM
URL:https://www.readby3rd.org/event/weekly-story-times-no-ticket-or-registration-required-3/
LOCATION:Clara B. Mounce Public Library\, 201 E 26th Street\, Bryan\, 77803\, United States
END:VEVENT
BEGIN:VEVENT
DTSTART;TZID=UTC:20180627T153000
DTEND;TZID=UTC:20180627T170000
DTSTAMP:20260423T191650
CREATED:20180523T185657Z
LAST-MODIFIED:20180523T185657Z
UID:13379-1530113400-1530118800@www.readby3rd.org
SUMMARY:Summer Shows with Free Tickets - TAMU Physics Show
DESCRIPTION:This is a Summer Show\, but you need to have a free ticket and it’s limited to the first 100. \nThe 100 limit is due to fire code and the tickets will be handed out 30 minutes before each show.
URL:https://www.readby3rd.org/event/summer-shows-with-free-tickets-tamu-physics-show-2/
LOCATION:Clara B. Mounce Public Library\, 201 E 26th Street\, Bryan\, 77803\, United States
END:VEVENT
BEGIN:VEVENT
DTSTART;TZID=UTC:20180627T103000
DTEND;TZID=UTC:20180627T130000
DTSTAMP:20260423T191650
CREATED:20180523T185546Z
LAST-MODIFIED:20180523T185546Z
UID:13377-1530095400-1530104400@www.readby3rd.org
SUMMARY:Summer Shows with Free Tickets - TAMU Physics Show
DESCRIPTION:This is a Summer Show\, but you need to have a free ticket and it’s limited to the first 100. \nThe 100 limit is due to fire code and the tickets will be handed out 30 minutes before each show.
URL:https://www.readby3rd.org/event/summer-shows-with-free-tickets-tamu-physics-show/
LOCATION:Clara B. Mounce Public Library\, 201 E 26th Street\, Bryan\, 77803\, United States
END:VEVENT
BEGIN:VEVENT
DTSTART;TZID=UTC:20180626T150000
DTEND;TZID=UTC:20180626T163000
DTSTAMP:20260423T191650
CREATED:20180523T191606Z
LAST-MODIFIED:20180523T191606Z
UID:13409-1530025200-1530030600@www.readby3rd.org
SUMMARY:Weekly Story Times - Big Kids - no ticket or registration required
DESCRIPTION:Every Tuesday afternoon story-times between June 1 and June 30: \nBig Kids Story times               3:00 PM
URL:https://www.readby3rd.org/event/weekly-story-times-big-kids-no-ticket-or-registration-required-4/
LOCATION:Clara B. Mounce Public Library\, 201 E 26th Street\, Bryan\, 77803\, United States
END:VEVENT
BEGIN:VEVENT
DTSTART;TZID=UTC:20180623T103000
DTEND;TZID=UTC:20180623T120000
DTSTAMP:20260423T191650
CREATED:20180523T183746Z
LAST-MODIFIED:20180523T183746Z
UID:13358-1529749800-1529755200@www.readby3rd.org
SUMMARY:Movie Morning
DESCRIPTION:This is a come & go event – no ticket or registration required. \nThe event will be at the Clara B. Mounce Public Library
URL:https://www.readby3rd.org/event/movie-morning/
LOCATION:Clara B. Mounce Public Library\, 201 E 26th Street\, Bryan\, 77803\, United States
END:VEVENT
BEGIN:VEVENT
DTSTART;TZID=UTC:20180621T101500
DTEND;TZID=UTC:20180621T120000
DTSTAMP:20260423T191650
CREATED:20180523T190608Z
LAST-MODIFIED:20180523T190608Z
UID:13391-1529576100-1529582400@www.readby3rd.org
SUMMARY:Weekly Story Times - no ticket or registration required
DESCRIPTION:Every Thursday morning story-times between June 7 and July 26: \nBaby/Toddler (ages 0-3)          10:15 AM \nGet Ready to Read (ages 3-5)  10:40 AM
URL:https://www.readby3rd.org/event/weekly-story-times-no-ticket-or-registration-required-2/
LOCATION:Clara B. Mounce Public Library\, 201 E 26th Street\, Bryan\, 77803\, United States
END:VEVENT
BEGIN:VEVENT
DTSTART;TZID=UTC:20180620T131500
DTEND;TZID=UTC:20180620T140000
DTSTAMP:20260423T191650
CREATED:20180523T185424Z
LAST-MODIFIED:20180523T185424Z
UID:13375-1529500500-1529503200@www.readby3rd.org
SUMMARY:Summer Shows with Free Tickets - Lucas Miller\, Singing Zoologist
DESCRIPTION:This is a Summer Show\, but you need to have a free ticket and it’s limited to the first 100. \nThe 100 limit is due to fire code and the tickets will be handed out 30 minutes before each show.
URL:https://www.readby3rd.org/event/summer-shows-with-free-tickets-lucas-miller-singing-zoologist-3/
LOCATION:Clara B. Mounce Public Library\, 201 E 26th Street\, Bryan\, 77803\, United States
END:VEVENT
BEGIN:VEVENT
DTSTART;TZID=UTC:20180620T123500
DTEND;TZID=UTC:20180620T130000
DTSTAMP:20260423T191650
CREATED:20180523T185307Z
LAST-MODIFIED:20180523T185307Z
UID:13373-1529498100-1529499600@www.readby3rd.org
SUMMARY:Summer Shows with Free Tickets - Lucas Miller\, Singing Zoologist
DESCRIPTION:This is a Summer Show\, but you need to have a free ticket and it’s limited to the first 100. \nThe 100 limit is due to fire code and the tickets will be handed out 30 minutes before each show.
URL:https://www.readby3rd.org/event/summer-shows-with-free-tickets-lucas-miller-singing-zoologist-2/
LOCATION:Clara B. Mounce Public Library\, 201 E 26th Street\, Bryan\, 77803\, United States
END:VEVENT
BEGIN:VEVENT
DTSTART;TZID=UTC:20180620T111500
DTEND;TZID=UTC:20180620T120000
DTSTAMP:20260423T191650
CREATED:20180523T185144Z
LAST-MODIFIED:20180523T185144Z
UID:13371-1529493300-1529496000@www.readby3rd.org
SUMMARY:Summer Shows with Free Tickets - Lucas Miller\, Singing Zoologist
DESCRIPTION:This is a Summer Show\, but you need to have a free ticket and it’s limited to the first 100. \nThe 100 limit is due to fire code and the tickets will be handed out 30 minutes before each show.
URL:https://www.readby3rd.org/event/summer-shows-with-free-tickets-lucas-miller-singing-zoologist/
LOCATION:Clara B. Mounce Public Library\, 201 E 26th Street\, Bryan\, 77803\, United States
END:VEVENT
BEGIN:VEVENT
DTSTART;TZID=UTC:20180620T103000
DTEND;TZID=UTC:20180620T110000
DTSTAMP:20260423T191650
CREATED:20180523T184853Z
LAST-MODIFIED:20180523T184853Z
UID:13369-1529490600-1529492400@www.readby3rd.org
SUMMARY:Summer Shows with Free Tickets - Lucas\, Singing Zoologist
DESCRIPTION:This is a Summer Show\, but you need to have a free ticket and it’s limited to the first 100. \nThe 100 limit is due to fire code and the tickets will be handed out 30 minutes before each show.
URL:https://www.readby3rd.org/event/summer-shows-with-free-tickets-lucas-singing-zoologist/
LOCATION:Clara B. Mounce Public Library\, 201 E 26th Street\, Bryan\, 77803\, United States
END:VEVENT
BEGIN:VEVENT
DTSTART;TZID=UTC:20180619T150000
DTEND;TZID=UTC:20180619T163000
DTSTAMP:20260423T191650
CREATED:20180523T191511Z
LAST-MODIFIED:20180523T191511Z
UID:13407-1529420400-1529425800@www.readby3rd.org
SUMMARY:Weekly Story Times - Big Kids - no ticket or registration required
DESCRIPTION:Every Tuesday afternoon story-times between June 1 and June 30: \nBig Kids Story times               3:00 PM
URL:https://www.readby3rd.org/event/weekly-story-times-big-kids-no-ticket-or-registration-required-3/
LOCATION:Clara B. Mounce Public Library\, 201 E 26th Street\, Bryan\, 77803\, United States
END:VEVENT
END:VCALENDAR