BEGIN:VCALENDAR
VERSION:2.0
PRODID:-//Read by 3rd - ECPv6.15.20//NONSGML v1.0//EN
CALSCALE:GREGORIAN
METHOD:PUBLISH
X-ORIGINAL-URL:https://www.readby3rd.org
X-WR-CALDESC:Events for Read by 3rd
REFRESH-INTERVAL;VALUE=DURATION:PT1H
X-Robots-Tag:noindex
X-PUBLISHED-TTL:PT1H
BEGIN:VTIMEZONE
TZID:UTC
BEGIN:STANDARD
TZOFFSETFROM:+0000
TZOFFSETTO:+0000
TZNAME:UTC
DTSTART:20160101T000000
END:STANDARD
END:VTIMEZONE
BEGIN:VEVENT
DTSTART;TZID=UTC:20180627T153000
DTEND;TZID=UTC:20180627T170000
DTSTAMP:20260423T224045
CREATED:20180523T185657Z
LAST-MODIFIED:20180523T185657Z
UID:13379-1530113400-1530118800@www.readby3rd.org
SUMMARY:Summer Shows with Free Tickets - TAMU Physics Show
DESCRIPTION:This is a Summer Show\, but you need to have a free ticket and it’s limited to the first 100. \nThe 100 limit is due to fire code and the tickets will be handed out 30 minutes before each show.
URL:https://www.readby3rd.org/event/summer-shows-with-free-tickets-tamu-physics-show-2/
LOCATION:Clara B. Mounce Public Library\, 201 E 26th Street\, Bryan\, 77803\, United States
END:VEVENT
BEGIN:VEVENT
DTSTART;TZID=UTC:20180627T103000
DTEND;TZID=UTC:20180627T130000
DTSTAMP:20260423T224045
CREATED:20180523T185546Z
LAST-MODIFIED:20180523T185546Z
UID:13377-1530095400-1530104400@www.readby3rd.org
SUMMARY:Summer Shows with Free Tickets - TAMU Physics Show
DESCRIPTION:This is a Summer Show\, but you need to have a free ticket and it’s limited to the first 100. \nThe 100 limit is due to fire code and the tickets will be handed out 30 minutes before each show.
URL:https://www.readby3rd.org/event/summer-shows-with-free-tickets-tamu-physics-show/
LOCATION:Clara B. Mounce Public Library\, 201 E 26th Street\, Bryan\, 77803\, United States
END:VEVENT
BEGIN:VEVENT
DTSTART;TZID=UTC:20180626T150000
DTEND;TZID=UTC:20180626T163000
DTSTAMP:20260423T224045
CREATED:20180523T191606Z
LAST-MODIFIED:20180523T191606Z
UID:13409-1530025200-1530030600@www.readby3rd.org
SUMMARY:Weekly Story Times - Big Kids - no ticket or registration required
DESCRIPTION:Every Tuesday afternoon story-times between June 1 and June 30: \nBig Kids Story times               3:00 PM
URL:https://www.readby3rd.org/event/weekly-story-times-big-kids-no-ticket-or-registration-required-4/
LOCATION:Clara B. Mounce Public Library\, 201 E 26th Street\, Bryan\, 77803\, United States
END:VEVENT
BEGIN:VEVENT
DTSTART;TZID=UTC:20180623T103000
DTEND;TZID=UTC:20180623T120000
DTSTAMP:20260423T224045
CREATED:20180523T183746Z
LAST-MODIFIED:20180523T183746Z
UID:13358-1529749800-1529755200@www.readby3rd.org
SUMMARY:Movie Morning
DESCRIPTION:This is a come & go event – no ticket or registration required. \nThe event will be at the Clara B. Mounce Public Library
URL:https://www.readby3rd.org/event/movie-morning/
LOCATION:Clara B. Mounce Public Library\, 201 E 26th Street\, Bryan\, 77803\, United States
END:VEVENT
BEGIN:VEVENT
DTSTART;TZID=UTC:20180621T101500
DTEND;TZID=UTC:20180621T120000
DTSTAMP:20260423T224045
CREATED:20180523T190608Z
LAST-MODIFIED:20180523T190608Z
UID:13391-1529576100-1529582400@www.readby3rd.org
SUMMARY:Weekly Story Times - no ticket or registration required
DESCRIPTION:Every Thursday morning story-times between June 7 and July 26: \nBaby/Toddler (ages 0-3)          10:15 AM \nGet Ready to Read (ages 3-5)  10:40 AM
URL:https://www.readby3rd.org/event/weekly-story-times-no-ticket-or-registration-required-2/
LOCATION:Clara B. Mounce Public Library\, 201 E 26th Street\, Bryan\, 77803\, United States
END:VEVENT
BEGIN:VEVENT
DTSTART;TZID=UTC:20180620T131500
DTEND;TZID=UTC:20180620T140000
DTSTAMP:20260423T224045
CREATED:20180523T185424Z
LAST-MODIFIED:20180523T185424Z
UID:13375-1529500500-1529503200@www.readby3rd.org
SUMMARY:Summer Shows with Free Tickets - Lucas Miller\, Singing Zoologist
DESCRIPTION:This is a Summer Show\, but you need to have a free ticket and it’s limited to the first 100. \nThe 100 limit is due to fire code and the tickets will be handed out 30 minutes before each show.
URL:https://www.readby3rd.org/event/summer-shows-with-free-tickets-lucas-miller-singing-zoologist-3/
LOCATION:Clara B. Mounce Public Library\, 201 E 26th Street\, Bryan\, 77803\, United States
END:VEVENT
BEGIN:VEVENT
DTSTART;TZID=UTC:20180620T123500
DTEND;TZID=UTC:20180620T130000
DTSTAMP:20260423T224045
CREATED:20180523T185307Z
LAST-MODIFIED:20180523T185307Z
UID:13373-1529498100-1529499600@www.readby3rd.org
SUMMARY:Summer Shows with Free Tickets - Lucas Miller\, Singing Zoologist
DESCRIPTION:This is a Summer Show\, but you need to have a free ticket and it’s limited to the first 100. \nThe 100 limit is due to fire code and the tickets will be handed out 30 minutes before each show.
URL:https://www.readby3rd.org/event/summer-shows-with-free-tickets-lucas-miller-singing-zoologist-2/
LOCATION:Clara B. Mounce Public Library\, 201 E 26th Street\, Bryan\, 77803\, United States
END:VEVENT
BEGIN:VEVENT
DTSTART;TZID=UTC:20180620T111500
DTEND;TZID=UTC:20180620T120000
DTSTAMP:20260423T224045
CREATED:20180523T185144Z
LAST-MODIFIED:20180523T185144Z
UID:13371-1529493300-1529496000@www.readby3rd.org
SUMMARY:Summer Shows with Free Tickets - Lucas Miller\, Singing Zoologist
DESCRIPTION:This is a Summer Show\, but you need to have a free ticket and it’s limited to the first 100. \nThe 100 limit is due to fire code and the tickets will be handed out 30 minutes before each show.
URL:https://www.readby3rd.org/event/summer-shows-with-free-tickets-lucas-miller-singing-zoologist/
LOCATION:Clara B. Mounce Public Library\, 201 E 26th Street\, Bryan\, 77803\, United States
END:VEVENT
BEGIN:VEVENT
DTSTART;TZID=UTC:20180620T103000
DTEND;TZID=UTC:20180620T110000
DTSTAMP:20260423T224045
CREATED:20180523T184853Z
LAST-MODIFIED:20180523T184853Z
UID:13369-1529490600-1529492400@www.readby3rd.org
SUMMARY:Summer Shows with Free Tickets - Lucas\, Singing Zoologist
DESCRIPTION:This is a Summer Show\, but you need to have a free ticket and it’s limited to the first 100. \nThe 100 limit is due to fire code and the tickets will be handed out 30 minutes before each show.
URL:https://www.readby3rd.org/event/summer-shows-with-free-tickets-lucas-singing-zoologist/
LOCATION:Clara B. Mounce Public Library\, 201 E 26th Street\, Bryan\, 77803\, United States
END:VEVENT
BEGIN:VEVENT
DTSTART;TZID=UTC:20180619T150000
DTEND;TZID=UTC:20180619T163000
DTSTAMP:20260423T224045
CREATED:20180523T191511Z
LAST-MODIFIED:20180523T191511Z
UID:13407-1529420400-1529425800@www.readby3rd.org
SUMMARY:Weekly Story Times - Big Kids - no ticket or registration required
DESCRIPTION:Every Tuesday afternoon story-times between June 1 and June 30: \nBig Kids Story times               3:00 PM
URL:https://www.readby3rd.org/event/weekly-story-times-big-kids-no-ticket-or-registration-required-3/
LOCATION:Clara B. Mounce Public Library\, 201 E 26th Street\, Bryan\, 77803\, United States
END:VEVENT
BEGIN:VEVENT
DTSTART;TZID=UTC:20180615T103000
DTEND;TZID=UTC:20180615T120000
DTSTAMP:20260423T224045
CREATED:20180523T184702Z
LAST-MODIFIED:20180523T184702Z
UID:13367-1529058600-1529064000@www.readby3rd.org
SUMMARY:Summer Shows with Free Tickets - African Safari (music & stories)
DESCRIPTION:This is a Summer Show\, but you need to have a free ticket and it’s limited to the first 100. \nThe 100 limit is due to fire code and the tickets will be handed out 30 minutes before each show. \n  \n 
URL:https://www.readby3rd.org/event/summer-shows-with-free-tickets-african-safari-music-stories/
LOCATION:Clara B. Mounce Public Library\, 201 E 26th Street\, Bryan\, 77803\, United States
END:VEVENT
BEGIN:VEVENT
DTSTART;TZID=UTC:20180614T101500
DTEND;TZID=UTC:20180614T170000
DTSTAMP:20260423T224045
CREATED:20180523T190505Z
LAST-MODIFIED:20180523T190505Z
UID:13389-1528971300-1528995600@www.readby3rd.org
SUMMARY:Weekly Story Times - no ticket or registation required
DESCRIPTION:Every Thursday morning story-times between June 7 and July 26: \nBaby/Toddler (ages 0-3)          10:15 AM \nGet Ready to Read (ages 3-5)  10:40 AM
URL:https://www.readby3rd.org/event/weekly-story-times-no-ticket-or-registation-required/
LOCATION:Clara B. Mounce Public Library\, 201 E 26th Street\, Bryan\, 77803\, United States
END:VEVENT
BEGIN:VEVENT
DTSTART;TZID=UTC:20180613T100000
DTEND;TZID=UTC:20180613T120000
DTSTAMP:20260423T224045
CREATED:20180523T183634Z
LAST-MODIFIED:20180523T183634Z
UID:13356-1528884000-1528891200@www.readby3rd.org
SUMMARY:Juneteenth Arts Festival
DESCRIPTION:This is a come & go event – no ticket or registration required. \nThe event will be at the Clara B. Mounce Public Library
URL:https://www.readby3rd.org/event/juneteenth-arts-festival/
LOCATION:Clara B. Mounce Public Library\, 201 E 26th Street\, Bryan\, 77803\, United States
END:VEVENT
BEGIN:VEVENT
DTSTART;TZID=UTC:20180612T150000
DTEND;TZID=UTC:20180612T163000
DTSTAMP:20260423T224045
CREATED:20180523T191413Z
LAST-MODIFIED:20180523T191413Z
UID:13405-1528815600-1528821000@www.readby3rd.org
SUMMARY:Weekly Story Times - Big Kids - no ticket or registration required
DESCRIPTION:Every Tuesday afternoon story-times between June 1 and June 30: \nBig Kids Story times               3:00 PM
URL:https://www.readby3rd.org/event/weekly-story-times-big-kids-no-ticket-or-registration-required-2/
LOCATION:Clara B. Mounce Public Library\, 201 E 26th Street\, Bryan\, 77803\, United States
END:VEVENT
BEGIN:VEVENT
DTSTART;TZID=UTC:20180608T183000
DTEND;TZID=UTC:20180608T203000
DTSTAMP:20260423T224045
CREATED:20180523T183530Z
LAST-MODIFIED:20180523T183530Z
UID:13354-1528482600-1528489800@www.readby3rd.org
SUMMARY:Family Game Night (ages 4+)
DESCRIPTION:This is a come & go event – no ticket or registration required. \nThe event will be at the Clara B. Mounce Public Library
URL:https://www.readby3rd.org/event/family-game-night-ages-4/
LOCATION:Clara B. Mounce Public Library\, 201 E 26th Street\, Bryan\, 77803\, United States
END:VEVENT
BEGIN:VEVENT
DTSTART;TZID=UTC:20180607T101500
DTEND;TZID=UTC:20180607T120000
DTSTAMP:20260423T224045
CREATED:20180523T190406Z
LAST-MODIFIED:20180523T190406Z
UID:13387-1528366500-1528372800@www.readby3rd.org
SUMMARY:Weekly Story Times - No Ticket or registration required
DESCRIPTION:Every Thursday morning story-times between June 7 and July 26: \nBaby/Toddler (ages 0-3)          10:15 AM \nGet Ready to Read (ages 3-5)  10:40 AM \n 
URL:https://www.readby3rd.org/event/weekly-story-times-no-ticket-or-registration-required/
LOCATION:Clara B. Mounce Public Library\, 201 E 26th Street\, Bryan\, 77803\, United States
END:VEVENT
BEGIN:VEVENT
DTSTART;TZID=UTC:20180606T100000
DTEND;TZID=UTC:20180606T120000
DTSTAMP:20260423T224045
CREATED:20180523T183337Z
LAST-MODIFIED:20180523T183337Z
UID:13352-1528279200-1528286400@www.readby3rd.org
SUMMARY:Big Rigs & Hometown Heros
DESCRIPTION:This is a come & go event – no ticket or registration required. \nThe event will be at the Clara B. Mounce Public Library
URL:https://www.readby3rd.org/event/big-rigs-hometown-heros/
LOCATION:Clara B. Mounce Public Library\, 201 E 26th Street\, Bryan\, 77803\, United States
END:VEVENT
BEGIN:VEVENT
DTSTART;TZID=UTC:20180605T150000
DTEND;TZID=UTC:20180605T163000
DTSTAMP:20260423T224045
CREATED:20180523T191312Z
LAST-MODIFIED:20180523T191312Z
UID:13403-1528210800-1528216200@www.readby3rd.org
SUMMARY:Weekly Story Times - Big Kids - no ticket or registration required
DESCRIPTION:Every Tuesday afternoon story-times between June 1 and June 30: \nBig Kids Story times               3:00 PM \n 
URL:https://www.readby3rd.org/event/weekly-story-times-big-kids-no-ticket-or-registration-required/
LOCATION:Clara B. Mounce Public Library\, 201 E 26th Street\, Bryan\, 77803\, United States
END:VEVENT
BEGIN:VEVENT
DTSTART;TZID=UTC:20180602T090000
DTEND;TZID=UTC:20180602T110000
DTSTAMP:20260423T224045
CREATED:20180523T183044Z
LAST-MODIFIED:20180523T183044Z
UID:13350-1527930000-1527937200@www.readby3rd.org
SUMMARY:Clara B. Mounce Public Library - Animal Day - Come & Go Event - no ticket or registration required
DESCRIPTION:
URL:https://www.readby3rd.org/event/clara-b-mounce-public-library-animal-day-come-go-event-no-ticket-or-registration-required/
LOCATION:Clara B. Mounce Public Library\, 201 E 26th Street\, Bryan\, 77803\, United States
END:VEVENT
BEGIN:VEVENT
DTSTART;TZID=UTC:20180509T113000
DTEND;TZID=UTC:20180509T130000
DTSTAMP:20260423T224045
CREATED:20180403T133729Z
LAST-MODIFIED:20180403T174233Z
UID:13231-1525865400-1525870800@www.readby3rd.org
SUMMARY:Read by 3rd Luncheon
DESCRIPTION:[gview file=”http://www.readby3rd.org/wp-content/uploads/2018/04/34656-Read-by-3rd-PC.pdf”] \nMail Payments To:\nJazmin Martinez\n308 E Villa Maria Road\, Bryan\, Texas 77801 \nQuestions? Call: 979-822-6100 or Email jazmin@hdzfirm.com
URL:https://www.readby3rd.org/event/read-by-3rd-luncheon/
LOCATION:Hilton College Station\, 801 University Dr E\, College Station\, 77840\, United States
END:VEVENT
BEGIN:VEVENT
DTSTART;TZID=UTC:20180505T080000
DTEND;TZID=UTC:20180505T120000
DTSTAMP:20260423T224045
CREATED:20170921T164614Z
LAST-MODIFIED:20171017T190214Z
UID:13005-1525507200-1525521600@www.readby3rd.org
SUMMARY:Read by 3rd - Monthly Meeting and Final Meeting for the 2017-2018 Year at Rayburn Intermediate School
DESCRIPTION:The session shall have speakers\, presentations\, interactive activities (To Be Determined) and consist of four parts: \nRelationship Building\, \nTechnology in communication/resources\, \nNutrition/Health\, & \nReading and Academic Development Strategies
URL:https://www.readby3rd.org/event/read-by-3rd-monthly-meeting-and-final-meeting-for-the-2017-2018-year/
LOCATION:Rayburn Intermediate School\, 1048 N Earl Rudder Freeway\, Bryan\, TX\, 77802\, United States
END:VEVENT
BEGIN:VEVENT
DTSTART;TZID=UTC:20180421T080000
DTEND;TZID=UTC:20180421T120000
DTSTAMP:20260423T224045
CREATED:20170921T164501Z
LAST-MODIFIED:20180417T192949Z
UID:13003-1524297600-1524312000@www.readby3rd.org
SUMMARY:Read by 3rd - Monthly Meeting at Fannin Elementary School
DESCRIPTION:Breakfast will be provided. \nOur Agenda will include speakers that will provide information regarding summer recreational and educational activities for children and families.
URL:https://www.readby3rd.org/event/read-by-3rd-monthly-meeting-12/
LOCATION:Fannin Elementary School\, 1200 Baker Ave\, Bryan\, TX\, 77803\, United States
END:VEVENT
BEGIN:VEVENT
DTSTART;TZID=UTC:20180303T080000
DTEND;TZID=UTC:20180303T123000
DTSTAMP:20260423T224045
CREATED:20170921T164357Z
LAST-MODIFIED:20180225T191159Z
UID:13001-1520064000-1520080200@www.readby3rd.org
SUMMARY:Read by 3rd - Monthly Meeting at Jones Elementary School
DESCRIPTION:The session shall have speakers\, presentations\, interactive activities (To Be Determined) and consist of four parts: \nRelationship Building\, \nTechnology in communication/resources\, \nNutrition/Health\, & \nReading and Academic Development Strategies
URL:https://www.readby3rd.org/event/read-by-3rd-monthly-meeting-11/
LOCATION:Long Intermediate School\, 1106 N Harvey Mitchell Parkway\, Bryan\, TX\, 77803\, United States
END:VEVENT
BEGIN:VEVENT
DTSTART;TZID=UTC:20180210T083000
DTEND;TZID=UTC:20180210T120000
DTSTAMP:20260423T224045
CREATED:20170921T161317Z
LAST-MODIFIED:20180207T175340Z
UID:12988-1518251400-1518264000@www.readby3rd.org
SUMMARY:Read by 3rd - Monthly Meeting will be a road trip from Jones Elementary School to Aggie Day with Corps of Cadets
DESCRIPTION:HOWDY!\nTexas A&M University invites you to Aggieland\nSaturday\, an annual  campus-wide open  house\nfor  prospective  students  and  their  families.\nDuring  this  one  day\,  you  can  meet  current\nstudents\,  tour  facilities\,  and  find  out  about  the\nacademic  and  financial  programs  Texas  A&M\nhas to offer you.\nBring your family and friends\, and we’ll see you\nin Aggieland on Saturday\, February 10\, 2018.  \nRead  By  Third  will  go  as  a  group  and  we  will\nmeet at Anson Jones Elementary at 8 am. The\nbuses will leave for A&M campus at 8:30. There\nare no costs associated with this event.
URL:https://www.readby3rd.org/event/read-by-3rd-monthly-meeting-10/
LOCATION:Anson Jones Elementary School\, 1400 Pecan Street\, Bryan\, TX\, 77803\, United States
END:VEVENT
BEGIN:VEVENT
DTSTART;TZID=UTC:20180210T080000
DTEND;TZID=UTC:20180210T170000
DTSTAMP:20260423T224045
CREATED:20170921T165201Z
LAST-MODIFIED:20180207T175241Z
UID:13009-1518249600-1518282000@www.readby3rd.org
SUMMARY:Read by 3rd - Aggieland Saturday - buses leaving from Anson Jones Elementary at 8 AM
DESCRIPTION:HOWDY!\nTexas A&M University invites you to Aggieland\nSaturday\, an annual  campus-wide open  house\nfor  prospective  students  and  their  families.\nDuring  this  one  day\,  you  can  meet  current\nstudents\,  tour  facilities\,  and  find  out  about  the\nacademic  and  financial  programs  Texas  A&M\nhas to offer you.\nBring your family and friends\, and we’ll see you\nin Aggieland on Saturday\, February 10\, 2018.  \nRead  By  Third  will  go  as  a  group  and  we  will\nmeet at Anson Jones Elementary at 8 am. The\nbuses will leave for A&M campus at 8:30. There\nare no costs associated with this event.
URL:https://www.readby3rd.org/event/read-by-3rd-goes-to-aggie-day-with-corps-of-cadets/
END:VEVENT
BEGIN:VEVENT
DTSTART;TZID=UTC:20180127T080000
DTEND;TZID=UTC:20180127T120000
DTSTAMP:20260423T224045
CREATED:20170921T161158Z
LAST-MODIFIED:20180123T155715Z
UID:12986-1517040000-1517054400@www.readby3rd.org
SUMMARY:Read by 3rd - Monthly Meeting at Sam Rayburn Intermediate School
DESCRIPTION:The session shall have speakers\, presentations\, interactive activities (To Be Determined) and consist of four parts: \nRelationship Building\, \nTechnology in communication/resources\, \nNutrition/Health\, & \nReading and Academic Development Strategies
URL:https://www.readby3rd.org/event/read-by-3rd-monthly-meeting-9/
LOCATION:Rayburn Intermediate School\, 1048 N Earl Rudder Freeway\, Bryan\, TX\, 77802\, United States
END:VEVENT
BEGIN:VEVENT
DTSTART;TZID=UTC:20180114T120000
DTEND;TZID=UTC:20180114T170000
DTSTAMP:20260423T224045
CREATED:20180110T003522Z
LAST-MODIFIED:20180110T003522Z
UID:13066-1515931200-1515949200@www.readby3rd.org
SUMMARY:Texas A&M Basketball Game
DESCRIPTION:Read by 3rd is going to see a Texas A&M Women’s Basketball Game\nParents and children invited: \nBasketball game on Sunday\, January 14\, 2018. Transportation will leave\nAnson Jones Elementary at 12:15 p.m. To confirm your attendance and\nRSVP for tickets please contact Jazmin at 979-822-6100 ASAP!
URL:https://www.readby3rd.org/event/texas-am-basketball-game/
LOCATION:Anson Jones Elementary School\, 1400 Pecan Street\, Bryan\, TX 77803\, Bryan
END:VEVENT
BEGIN:VEVENT
DTSTART;TZID=UTC:20171216T080000
DTEND;TZID=UTC:20171216T120000
DTSTAMP:20260423T224045
CREATED:20170921T160621Z
LAST-MODIFIED:20171126T014028Z
UID:12984-1513411200-1513425600@www.readby3rd.org
SUMMARY:Read by 3rd - Monthly Meeting at Fannin Elementary School
DESCRIPTION:Howdy Families – This is our Christmas Party meeting.  Hope to see you and Santa there.
URL:https://www.readby3rd.org/event/read-by-3rd-monthly-meeting-8/
LOCATION:Fannin Elementary School\, 1200 Baker Ave\, Bryan\, TX\, 77803\, United States
END:VEVENT
BEGIN:VEVENT
DTSTART;TZID=UTC:20171104T080000
DTEND;TZID=UTC:20171104T120000
DTSTAMP:20260423T224045
CREATED:20170921T160251Z
LAST-MODIFIED:20171017T185436Z
UID:12981-1509782400-1509796800@www.readby3rd.org
SUMMARY:Read By 3rd - Monthly Meeting at Fannin Elementary
DESCRIPTION:The sessions shall have speakers\, presentations\, interactive activities (To Be Determined) and will consist of four parts: \nRelationship Building\, \nTechnology in communication/resources\, \nNutrition/Health\, & \nReading and Academic Development Strategies
URL:https://www.readby3rd.org/event/read-by-3rd-monthly-meeting-7/
LOCATION:Fannin Elementary School\, 1200 Baker Ave\, Bryan\, TX\, 77803\, United States
END:VEVENT
BEGIN:VEVENT
DTSTART;TZID=UTC:20171022T080000
DTEND;TZID=UTC:20171022T170000
DTSTAMP:20260423T224045
CREATED:20170921T164909Z
LAST-MODIFIED:20170921T164909Z
UID:13007-1508659200-1508691600@www.readby3rd.org
SUMMARY:Read by 3rd - goes to Aggies Soccer Game
DESCRIPTION:The information for this event will be published at a later date.  At this time the soccer game to scheduled to start at 6 PM.  The ladies will be playing Vanderbilt.
URL:https://www.readby3rd.org/event/read-by-3rd-goes-to-aggies-soccer-game/
END:VEVENT
END:VCALENDAR