BEGIN:VCALENDAR
VERSION:2.0
PRODID:-//Read by 3rd - ECPv6.15.20//NONSGML v1.0//EN
CALSCALE:GREGORIAN
METHOD:PUBLISH
X-WR-CALNAME:Read by 3rd
X-ORIGINAL-URL:https://www.readby3rd.org
X-WR-CALDESC:Events for Read by 3rd
REFRESH-INTERVAL;VALUE=DURATION:PT1H
X-Robots-Tag:noindex
X-PUBLISHED-TTL:PT1H
BEGIN:VTIMEZONE
TZID:UTC
BEGIN:STANDARD
TZOFFSETFROM:+0000
TZOFFSETTO:+0000
TZNAME:UTC
DTSTART:20150101T000000
END:STANDARD
END:VTIMEZONE
BEGIN:VEVENT
DTSTART;TZID=UTC:20171014T083000
DTEND;TZID=UTC:20171014T120000
DTSTAMP:20260424T033319
CREATED:20170819T160756Z
LAST-MODIFIED:20170921T170106Z
UID:12947-1507969800-1507982400@www.readby3rd.org
SUMMARY:First 2017-2018 Monthly Meeting at Jones Elementary School
DESCRIPTION:This will be our first meeting of the new school year.   All parents and children are welcome. \nThe session shall have speakers\, presentations\, interactive activities (To Be Determined) and consist of four parts: \nRelationship Building\, \nTechnology in communication/resources\, \nNutrition/Health\, & \nReading and Academic Development Strategies
URL:https://www.readby3rd.org/event/first-2017-2018-monthly-meeting/
LOCATION:Anson Jones Elementary School\, 1400 Pecan Street\, Bryan\, TX\, 77803\, United States
END:VEVENT
BEGIN:VEVENT
DTSTART;TZID=UTC:20170921T173000
DTEND;TZID=UTC:20170921T190000
DTSTAMP:20260424T033319
CREATED:20170921T162855Z
LAST-MODIFIED:20170921T162855Z
UID:12991-1506015000-1506020400@www.readby3rd.org
SUMMARY:Read by 3rd - Registration at Rayburn Intermediate School
DESCRIPTION:Volunteers will be at Rayburn Intermediate School between 5:30 – 7 PM to register families into the 2017-2018 Program Year.
URL:https://www.readby3rd.org/event/read-by-3rd-registration-at-rayburn-intermediate-school/
LOCATION:Rayburn Intermediate School\, 1048 N Earl Rudder Freeway\, Bryan\, TX\, 77802\, United States
END:VEVENT
BEGIN:VEVENT
DTSTART;TZID=UTC:20170919T173000
DTEND;TZID=UTC:20170919T190000
DTSTAMP:20260424T033319
CREATED:20170921T155023Z
LAST-MODIFIED:20170921T155043Z
UID:12978-1505842200-1505847600@www.readby3rd.org
SUMMARY:Read by 3rd Registration at Rayburn Intermediate School during Open House
DESCRIPTION:Volunteers will be at Rayburn Intermediate School between 5:30 – 7 PM to register families into the 2017-2018 Program Year.
URL:https://www.readby3rd.org/event/read-by-3rd-registration-at-rayburn-intermediate-school-during-open-house/
LOCATION:Rayburn Intermediate School\, 1048 N Earl Rudder Freeway\, Bryan\, TX\, 77802\, United States
END:VEVENT
BEGIN:VEVENT
DTSTART;TZID=UTC:20170530T113000
DTEND;TZID=UTC:20170530T130000
DTSTAMP:20260424T033319
CREATED:20170424T001119Z
LAST-MODIFIED:20170424T001119Z
UID:12820-1496143800-1496149200@www.readby3rd.org
SUMMARY:BCS CHAMBER OF COMMERCE ANNUAL - READ BY 3RD LUNCHEON
DESCRIPTION:Our annual Read By 3rd luncheon will be held on May 30\, 2017 from 11:30 a.m. to 1:00 p.m. at the College Station Hilton.\nIndividual tickets will be $30.00\nTable of 8 will be $350.00 \nFor more information or to register for the event please contact:\nKim at the BCS Chamber: 979.260.5200 or visit bcschamber.org\nOr\nJazmin at 979.822.6100 or via email jazmin@hdzfirm.com \nEvent Sponsor: American Momentum Bank
URL:https://www.readby3rd.org/event/bcs-chamber-of-commerce-annual-read-by-3rd-luncheon/
LOCATION:College Station Hilton\,  801 University Dr E\, College Station\, TX\, 77840\, United States
END:VEVENT
BEGIN:VEVENT
DTSTART;TZID=UTC:20170516T180000
DTEND;TZID=UTC:20170516T193000
DTSTAMP:20260424T033319
CREATED:20170424T000242Z
LAST-MODIFIED:20170430T223842Z
UID:12818-1494957600-1494963000@www.readby3rd.org
SUMMARY:End of Year Party - at Jones Elementary School
DESCRIPTION:Our End of the Year Read by 3rd Session/Dinner will be\nMAY 16\, 2017 AT 6:00 PM\nAt Jones Elementary\nWe will be serving dinner and will have a short program to\nthank all the parents\, teachers and volunteers!
URL:https://www.readby3rd.org/event/end-of-year-party-at-jones-elementary-school/
LOCATION:Anson Jones Elementary School\, 1400 Pecan Street\, Bryan\, TX\, 77803\, United States
END:VEVENT
BEGIN:VEVENT
DTSTART;TZID=UTC:20170422T080000
DTEND;TZID=UTC:20170422T120000
DTSTAMP:20260424T033319
CREATED:20160831T173910Z
LAST-MODIFIED:20170417T193726Z
UID:12594-1492848000-1492862400@www.readby3rd.org
SUMMARY:Read by 3rd - Monthly Meeting - Fannin Elementary School
DESCRIPTION:Our next Read by 3rd session will be held at Fannin Elementary (1200 Baker Ave. Bryan\, Texas 77803) on April 22\, 2017 from 8:00 a.m. – 12:00 noon. We will have academic/ fun activities for the school age children and baby sitters for toddlers.\nEven if you have not attended a prior session\, you are welcome!\nIf you have any questions\, please contact Jazmin 979-822-6100 or jazmin@hdzfirm.com
URL:https://www.readby3rd.org/event/read-by-3rd-monthly-meeting-6/
LOCATION:Fannin Elementary School\, 1200 Baker Ave\, Bryan\, TX\, 77803\, United States
END:VEVENT
BEGIN:VEVENT
DTSTART;TZID=UTC:20170325T080000
DTEND;TZID=UTC:20170325T120000
DTSTAMP:20260424T033319
CREATED:20160831T173822Z
LAST-MODIFIED:20170321T150102Z
UID:12592-1490428800-1490443200@www.readby3rd.org
SUMMARY:Read by 3rd - Monthly Meeting at Ben Milam Elementary
DESCRIPTION:BEN MILAM ELEMENTARY SCHOOL. \nWe will begin our Session at 7:45 a.m. Breakfast will be promptly served. The students\nand parents will travel to A&M University by bus to participate in Math awareness\nconference. They will have fun learning math strategies\, making arts & crafts and\nplaying card Tricks. Pizza will provided and there will be raffle prizes. Child care will\nbe provided for non-school age children at Milam for those parents that wish to attend\nthe Math awareness conference at Texas A&M.\nIf you plan to attend or have any questions\, please call Jazmin at 979-822-6100 or email\njazmin@hdzfirm.com.
URL:https://www.readby3rd.org/event/read-by-3rd-monthly-meeting-5/
LOCATION:TX
END:VEVENT
BEGIN:VEVENT
DTSTART;TZID=UTC:20170211T073000
DTEND;TZID=UTC:20170211T120000
DTSTAMP:20260424T033319
CREATED:20160831T173728Z
LAST-MODIFIED:20170207T201455Z
UID:12590-1486798200-1486814400@www.readby3rd.org
SUMMARY:Read by 3rd - Monthly Meeting - going to Aggieland Day with Cadets
DESCRIPTION:Our next Read by 3rd session will be held at Texas A&M University. Please meet at JONES Elementary at 7:45 a.m. (1400 Pecan Street Bryan\, Texas 77803) on February 11\, 2017. Due to time constraints\, breakfast will not be served\, please eat before arriving. We will travel by school bus to A&M campus and meet with Texas A&M students\, Texas A&M Cadets and with General Joe Ramirez. \nEven if you have not attended a prior session\, you are welcome! \nIf you have any questions\, please contact Jazmin 979-822-6100 or jazmin@hdzfirm.com
URL:https://www.readby3rd.org/event/read-by-3rd-monthly-meeting-4/
LOCATION:Anson Jones Elementary School\, 1400 Pecan Street\, Bryan\, TX\, 77803\, United States
END:VEVENT
BEGIN:VEVENT
DTSTART;TZID=UTC:20170128T080000
DTEND;TZID=UTC:20170128T120000
DTSTAMP:20260424T033319
CREATED:20160831T173650Z
LAST-MODIFIED:20161217T180531Z
UID:12588-1485590400-1485604800@www.readby3rd.org
SUMMARY:Read by 3rd - Monthly Meeting
DESCRIPTION:Meeting will be an Anson Jones Elementary School.
URL:https://www.readby3rd.org/event/read-by-3rd-monthly-meeting-3/
LOCATION:Anson Jones Elementary School\, 1400 Pecan Street\, Bryan\, TX\, 77803\, United States
END:VEVENT
BEGIN:VEVENT
DTSTART;TZID=UTC:20161211T140000
DTEND;TZID=UTC:20161211T170000
DTSTAMP:20260424T033319
CREATED:20161209T165416Z
LAST-MODIFIED:20161209T165416Z
UID:12728-1481464800-1481475600@www.readby3rd.org
SUMMARY:Girl Scout Camp Howdy Celebrates 60 Years - free
DESCRIPTION:http://wtaw.com/2016/12/09/camp-howdy-celebrates-60-years/ \n 
URL:https://www.readby3rd.org/event/girl-scout-camp-howdy-celebrates-60-years-free/
LOCATION:Howdy Camp\, 5321 Jones Road\, Bryan\, TX\, 77801\, United States
END:VEVENT
BEGIN:VEVENT
DTSTART;TZID=UTC:20161210T080000
DTEND;TZID=UTC:20161210T120000
DTSTAMP:20260424T033319
CREATED:20160831T173558Z
LAST-MODIFIED:20161128T150248Z
UID:12586-1481356800-1481371200@www.readby3rd.org
SUMMARY:Read by 3rd - Monthly Meeting at Fannin Elementary School
DESCRIPTION:
URL:https://www.readby3rd.org/event/read-by-3rd-monthly-meeting-2/
LOCATION:Fannin Elementary School\, 1200 Baker Ave\, Bryan\, TX\, 77803\, United States
END:VEVENT
BEGIN:VEVENT
DTSTART;TZID=UTC:20161208T173000
DTEND;TZID=UTC:20161208T180000
DTSTAMP:20260424T033319
CREATED:20161129T154924Z
LAST-MODIFIED:20161129T154924Z
UID:12720-1481218200-1481220000@www.readby3rd.org
SUMMARY:Nutcracker Storytime Ballet - free\, but limited seating
DESCRIPTION:Clara B. Mounce Public Library Hosts 8th Annual Nutcracker Storytime Ballet\n\n\n\n\n\n\n\n\n\n\n\n\n\n\n\n\n\n\n\n\n\n\n\n\n\n\n\n\n\n\n\n\nJoin us for the 8th Annual Nutcracker Storytime Ballet at the Clara B. Mounce Public Library on Thursday\, December 8th. Brought to you in partnership with Ballet Brazos\, the library will host two short performances at 5:30 PM and 6:15 PM featuring dancers from throughout the Brazos Valley. While this event is free to attend\, seating is limited to one hundred guests at each performance.\n\nFor the last eight years\, Ms. Bobbee Pennington of the Clara B. Mounce Public Library has worked with Diana Wilcox of Ballet Brazos to offer younger children and their families a captivating introduction to ballet. “These two short performances are an ideal opportunity to introduce toddlers and preschoolers to ballet\,” shared Ms. Pennington. “These children and their families are able to enjoy a time-honored tradition and holiday story while learning more about their community library. We offer this event every year as the library is also a cultural and community center.”\n\nWHAT:   8th Annual Nutcracker Storytime Ballet\nWHEN:   Thursday\, December 8th\n 1st Performance – 5:30 PM to 6:00 PM\n 2nd Performance – 6:15 PM to 6:45 PM\nWHERE: Clara B. Mounce Public Library – 2nd Floor Meeting Room\n              201 East 26th Street\, Bryan\n\nFor more information about the Clara B. Mounce Public Library including hours of operation\, programs\, and special events\, please visit www.bcslibrary.org/mounce.\n\nIn addition to the short performances\, Ballet Brazos will host its 5th Annual Nutcracker Ballet in full length on Saturday\, December 3rd\, at Texas A&M University’s Rudder Auditorium. For additional information\, please visit www.balletbrazos.org.\n\n\n\n\n\nThis news release is also available online at www.bryantx.gov. Be social! Follow us on Facebook (@CityofBryan)\, Twitter (@CityofBryan)\, and Instagram (@cityofbryan).
URL:https://www.readby3rd.org/event/nutcracker-storytime-ballet-free-but-limited-seating/
LOCATION:Clara B. Mounce Public Library\, 201 E 26th Street\, Bryan\, 77803\, United States
END:VEVENT
BEGIN:VEVENT
DTSTART;TZID=UTC:20161112T080000
DTEND;TZID=UTC:20161112T120000
DTSTAMP:20260424T033319
CREATED:20160831T173511Z
LAST-MODIFIED:20161025T141011Z
UID:12584-1478937600-1478952000@www.readby3rd.org
SUMMARY:Read by 3rd - Monthly Meeting
DESCRIPTION:November monthly meeting to be held on the 12th at Milam Elementary School.
URL:https://www.readby3rd.org/event/read-by-3rd-monthly-meeting/
LOCATION:Ben Milam Elementary School\, 1201 Ridgedale Street\, Bryan\, TX\, 77803\, United States
END:VEVENT
BEGIN:VEVENT
DTSTART;TZID=UTC:20161001T080000
DTEND;TZID=UTC:20161001T120000
DTSTAMP:20260424T033319
CREATED:20160824T212108Z
LAST-MODIFIED:20160824T212108Z
UID:12560-1475308800-1475323200@www.readby3rd.org
SUMMARY:2016-2017 - Read by 3rd - 1st meeting
DESCRIPTION:1st meeting of the school year will be at Jones Elementary School
URL:https://www.readby3rd.org/event/2016-2017-read-by-3rd-1st-meeting/
LOCATION:Anson Jones Elementary School\, 1400 Pecan Street\, Bryan\, TX\, 77803\, United States
END:VEVENT
BEGIN:VEVENT
DTSTART;TZID=UTC:20160922T170000
DTEND;TZID=UTC:20160922T184500
DTSTAMP:20260424T033319
CREATED:20160908T185530Z
LAST-MODIFIED:20160908T185530Z
UID:12627-1474563600-1474569900@www.readby3rd.org
SUMMARY:Free Homework Help
DESCRIPTION:Clara B. Mounce Public Library\nBringing Up the Grades\n\nFree Homework Help\nFor elementary thru high school age\nMonday thru Thursday 5 – 6:45 p.m.\nsecond floor Meeting Room\nbeginning September 6th
URL:https://www.readby3rd.org/event/free-homework-help-8/
LOCATION:Clara B. Mounce Public Library\, 201 E 26th Street\, Bryan\, 77803\, United States
END:VEVENT
BEGIN:VEVENT
DTSTART;TZID=UTC:20160921T170000
DTEND;TZID=UTC:20160921T184500
DTSTAMP:20260424T033319
CREATED:20160908T184808Z
LAST-MODIFIED:20160908T184808Z
UID:12623-1474477200-1474483500@www.readby3rd.org
SUMMARY:Free Homework Help
DESCRIPTION:Clara B. Mounce Public Library\nBringing Up the Grades\n\nFree Homework Help\nFor elementary thru high school age\nMonday thru Thursday 5 – 6:45 p.m.\nsecond floor Meeting Room\nbeginning September 6th
URL:https://www.readby3rd.org/event/free-homework-help-6/
LOCATION:Clara B. Mounce Public Library\, 201 E 26th Street\, Bryan\, 77803\, United States
END:VEVENT
BEGIN:VEVENT
DTSTART;TZID=UTC:20160920T170000
DTEND;TZID=UTC:20160920T184500
DTSTAMP:20260424T033319
CREATED:20160908T184703Z
LAST-MODIFIED:20160908T184703Z
UID:12621-1474390800-1474397100@www.readby3rd.org
SUMMARY:Free Homework Help
DESCRIPTION:Clara B. Mounce Public Library\nBringing Up the Grades\n\nFree Homework Help\nFor elementary thru high school age\nMonday thru Thursday 5 – 6:45 p.m.\nsecond floor Meeting Room\nbeginning September 6th
URL:https://www.readby3rd.org/event/free-homework-help-5/
LOCATION:Clara B. Mounce Public Library\, 201 E 26th Street\, Bryan\, 77803\, United States
END:VEVENT
BEGIN:VEVENT
DTSTART;TZID=UTC:20160919T170000
DTEND;TZID=UTC:20160919T184500
DTSTAMP:20260424T033319
CREATED:20160908T184617Z
LAST-MODIFIED:20160908T184617Z
UID:12619-1474304400-1474310700@www.readby3rd.org
SUMMARY:Free Homework Help
DESCRIPTION:Clara B. Mounce Public Library\nBringing Up the Grades\n\nFree Homework Help\nFor elementary thru high school age\nMonday thru Thursday 5 – 6:45 p.m.\nsecond floor Meeting Room\nbeginning September 6th
URL:https://www.readby3rd.org/event/free-homework-help-4/
LOCATION:Clara B. Mounce Public Library\, 201 E 26th Street\, Bryan\, 77803\, United States
END:VEVENT
BEGIN:VEVENT
DTSTART;TZID=UTC:20160915T170000
DTEND;TZID=UTC:20160915T184500
DTSTAMP:20260424T033319
CREATED:20160908T183215Z
LAST-MODIFIED:20160908T183302Z
UID:12612-1473958800-1473965100@www.readby3rd.org
SUMMARY:Free Homework Help
DESCRIPTION:Clara B. Mounce Public Library\nBringing Up the Grades\n\nFree Homework Help\nFor elementary thru high school age\nMonday thru Thursday 5 – 6:45 p.m.\nsecond floor Meeting Room\nbeginning September 6th
URL:https://www.readby3rd.org/event/free-homework-help/
LOCATION:Clara B. Mounce Public Library\, 201 E 26th Street\, Bryan\, 77803\, United States
END:VEVENT
BEGIN:VEVENT
DTSTART;TZID=UTC:20160914T170000
DTEND;TZID=UTC:20160914T184500
DTSTAMP:20260424T033319
CREATED:20160908T185457Z
LAST-MODIFIED:20160908T185457Z
UID:12625-1473872400-1473878700@www.readby3rd.org
SUMMARY:Free Homework Help
DESCRIPTION:Clara B. Mounce Public Library\nBringing Up the Grades\n\nFree Homework Help\nFor elementary thru high school age\nMonday thru Thursday 5 – 6:45 p.m.\nsecond floor Meeting Room\nbeginning September 6th
URL:https://www.readby3rd.org/event/free-homework-help-7/
LOCATION:Clara B. Mounce Public Library\, 201 E 26th Street\, Bryan\, 77803\, United States
END:VEVENT
BEGIN:VEVENT
DTSTART;TZID=UTC:20160913T170000
DTEND;TZID=UTC:20160913T184500
DTSTAMP:20260424T033319
CREATED:20160908T184402Z
LAST-MODIFIED:20160908T184402Z
UID:12615-1473786000-1473792300@www.readby3rd.org
SUMMARY:Free Homework Help
DESCRIPTION:Clara B. Mounce Public Library\nBringing Up the Grades\n\nFree Homework Help\nFor elementary thru high school age\nMonday thru Thursday 5 – 6:45 p.m.\nsecond floor Meeting Room\nbeginning September 6th
URL:https://www.readby3rd.org/event/free-homework-help-2/
LOCATION:TX
END:VEVENT
BEGIN:VEVENT
DTSTART;TZID=UTC:20160912T170000
DTEND;TZID=UTC:20160912T174500
DTSTAMP:20260424T033319
CREATED:20160908T184456Z
LAST-MODIFIED:20160908T185338Z
UID:12617-1473699600-1473702300@www.readby3rd.org
SUMMARY:Free Homework Help
DESCRIPTION:Clara B. Mounce Public Library\nBringing Up the Grades\n\nFree Homework Help\nFor elementary thru high school age\nMonday thru Thursday 5 – 6:45 p.m.\nsecond floor Meeting Room\nbeginning September 6th
URL:https://www.readby3rd.org/event/free-homework-help-3/
LOCATION:Clara B. Mounce Public Library\, 201 E 26th Street\, Bryan\, 77803\, United States
END:VEVENT
BEGIN:VEVENT
DTSTART;TZID=UTC:20160911T080000
DTEND;TZID=UTC:20160911T170000
DTSTAMP:20260424T033319
CREATED:20160831T173345Z
LAST-MODIFIED:20160907T215606Z
UID:12582-1473580800-1473613200@www.readby3rd.org
SUMMARY:Fiestas Patrias Parade - Read by 3rd to march in parade
DESCRIPTION:All parents and children are invited to participate in the annual Fiestas Patrias parade this  Sunday\, September 11\, downtown Bryan. Please contact your school principal to confirm time and place to meet. Milam\, Jones and Fannin schools have signed up to participate. All parents with Read by 3rd shirts are encouraged to wear your Rb3rd shirt. \nTodos los Padres son invitados que lleven sus hijos a participar en el desfile Del las Fiestas  Patrias este Domingo el 11 de Septiembre en el centro  de Bryan . Hablen con su directora de sus escuela para mayor informacion sober el Lugar  y tiempo .
URL:https://www.readby3rd.org/event/fiestas-patrias-parade-read-by-3rd-to-march-in-parade/
LOCATION:TX
END:VEVENT
BEGIN:VEVENT
DTSTART;TZID=UTC:20160908T170000
DTEND;TZID=UTC:20160908T184500
DTSTAMP:20260424T033319
CREATED:20160908T182914Z
LAST-MODIFIED:20160908T182914Z
UID:12610-1473354000-1473360300@www.readby3rd.org
SUMMARY:Homework Help
DESCRIPTION:Clara B. Mounce Public Library\nBringing Up the Grades\n\nFree Homework Help\nFor elementary thru high school age\nMonday thru Thursday 5 – 6:45 p.m.\nsecond floor Meeting Room\nbeginning September 6th
URL:https://www.readby3rd.org/event/homework-help/
LOCATION:Clara B. Mounce Public Library\, 201 E 26th Street\, Bryan\, 77803\, United States
END:VEVENT
BEGIN:VEVENT
DTSTART;TZID=UTC:20160903T080000
DTEND;TZID=UTC:20160903T120000
DTSTAMP:20260424T033319
CREATED:20160826T173057Z
LAST-MODIFIED:20160826T173057Z
UID:12565-1472889600-1472904000@www.readby3rd.org
SUMMARY:ESL signup at Bryan Library
DESCRIPTION:Bryan Adult Learning Center\, 1700 Palasota Drive\, Bryan\nDetails and time are below:\nBryan Adult Learning Center has two kinds of day and night\nRegistration: August 19 at the Center for Adult Education 1700 Palasota Dr\, Bryan\, TX\n8:30 AM – 12 noon for morning classes\n18: 00-21: 00 evening classes\nBe prepared to stay all the time\nNo transportation or child care provided\nSpace is limited\, so get there early to get your desired scheduleREGISTRATION FOR CLASSES IN PUBLIC LIBRARY CLARA Mounce WILL BE HELD SATURDAY SEPTEMBER 3 from 09:00 TIL 12:00 noon. Details will be sent as soon as they become available
URL:https://www.readby3rd.org/event/esl-signup-at-bryan-library/
LOCATION:Clara B. Mounce Public Library\, 201 E 26th Street\, Bryan\, 77803\, United States
END:VEVENT
BEGIN:VEVENT
DTSTART;TZID=UTC:20160819T173000
DTEND;TZID=UTC:20160819T190000
DTSTAMP:20260424T033319
CREATED:20160824T211828Z
LAST-MODIFIED:20160824T211828Z
UID:12558-1471627800-1471633200@www.readby3rd.org
SUMMARY:Meet the Teacher Night - Registration for Read by 3rd
DESCRIPTION:Read by 3rd Volunteers will be at Fanning\, Jones and Milam Elementary Schools
URL:https://www.readby3rd.org/event/meet-the-teacher-night-registration-for-read-by-3rd/
LOCATION:TX
END:VEVENT
BEGIN:VEVENT
DTSTART;TZID=UTC:20160525T131500
DTEND;TZID=UTC:20160525T143000
DTSTAMP:20260424T033319
CREATED:20151124T223648Z
LAST-MODIFIED:20151124T223648Z
UID:12327-1464182100-1464186600@www.readby3rd.org
SUMMARY:"Learning English" Class
DESCRIPTION:Volunteers are available to help parents “Learn English”.    Please come and see us in the portable in the back of Anson Jones Elementary School.
URL:https://www.readby3rd.org/event/learning-english-class-22/
LOCATION:Anson Jones Elementary School\, 1400 Pecan Street\, Bryan\, TX\, 77803\, United States
END:VEVENT
BEGIN:VEVENT
DTSTART;TZID=UTC:20160518T131500
DTEND;TZID=UTC:20160518T143000
DTSTAMP:20260424T033319
CREATED:20151124T223537Z
LAST-MODIFIED:20151124T223537Z
UID:12326-1463577300-1463581800@www.readby3rd.org
SUMMARY:"Learning English" Class
DESCRIPTION:Volunteers are available to help parents “Learn English”.    Please come and see us in the portable in the back of Anson Jones Elementary School.
URL:https://www.readby3rd.org/event/learning-english-class-21/
LOCATION:Anson Jones Elementary School\, 1400 Pecan Street\, Bryan\, TX\, 77803\, United States
END:VEVENT
BEGIN:VEVENT
DTSTART;TZID=UTC:20160511T131500
DTEND;TZID=UTC:20160511T143000
DTSTAMP:20260424T033319
CREATED:20151124T223434Z
LAST-MODIFIED:20151124T223434Z
UID:12325-1462972500-1462977000@www.readby3rd.org
SUMMARY:"Learning English" Class
DESCRIPTION:Volunteers are available to help parents “Learn English”.    Please come and see us in the portable in the back of Anson Jones Elementary School.
URL:https://www.readby3rd.org/event/learning-english-class-20/
LOCATION:Anson Jones Elementary School\, 1400 Pecan Street\, Bryan\, TX\, 77803\, United States
END:VEVENT
BEGIN:VEVENT
DTSTART;TZID=UTC:20160504T131500
DTEND;TZID=UTC:20160504T143000
DTSTAMP:20260424T033319
CREATED:20151124T223328Z
LAST-MODIFIED:20151124T223328Z
UID:12324-1462367700-1462372200@www.readby3rd.org
SUMMARY:"Learning English" Class
DESCRIPTION:Volunteers are available to help parents “Learn English”.    Please come and see us in the portable in the back of Anson Jones Elementary School.
URL:https://www.readby3rd.org/event/learning-english-class-19/
LOCATION:Anson Jones Elementary School\, 1400 Pecan Street\, Bryan\, TX\, 77803\, United States
END:VEVENT
END:VCALENDAR